BEGIN:VCALENDAR
VERSION:2.0
PRODID:-//School of Self-Reliance - ECPv6.15.13//NONSGML v1.0//EN
CALSCALE:GREGORIAN
METHOD:PUBLISH
X-WR-CALNAME:School of Self-Reliance
X-ORIGINAL-URL:https://www.schoolofself-reliance.com
X-WR-CALDESC:Events for School of Self-Reliance
REFRESH-INTERVAL;VALUE=DURATION:PT1H
X-Robots-Tag:noindex
X-PUBLISHED-TTL:PT1H
BEGIN:VTIMEZONE
TZID:America/Los_Angeles
BEGIN:DAYLIGHT
TZOFFSETFROM:-0800
TZOFFSETTO:-0700
TZNAME:PDT
DTSTART:20250309T100000
END:DAYLIGHT
BEGIN:STANDARD
TZOFFSETFROM:-0700
TZOFFSETTO:-0800
TZNAME:PST
DTSTART:20251102T090000
END:STANDARD
BEGIN:DAYLIGHT
TZOFFSETFROM:-0800
TZOFFSETTO:-0700
TZNAME:PDT
DTSTART:20260308T100000
END:DAYLIGHT
BEGIN:STANDARD
TZOFFSETFROM:-0700
TZOFFSETTO:-0800
TZNAME:PST
DTSTART:20261101T090000
END:STANDARD
BEGIN:DAYLIGHT
TZOFFSETFROM:-0800
TZOFFSETTO:-0700
TZNAME:PDT
DTSTART:20270314T100000
END:DAYLIGHT
BEGIN:STANDARD
TZOFFSETFROM:-0700
TZOFFSETTO:-0800
TZNAME:PST
DTSTART:20271107T090000
END:STANDARD
END:VTIMEZONE
BEGIN:VEVENT
DTSTART;TZID=America/Los_Angeles:20260219T190000
DTEND;TZID=America/Los_Angeles:20260219T210000
DTSTAMP:20260423T151427
CREATED:20260119T181349Z
LAST-MODIFIED:20260219T183329Z
UID:61242-1771527600-1771534800@www.schoolofself-reliance.com
SUMMARY:TOM BROWN III\, CLASS SERIES #2:  AWARENESS  --CLASS POSTPONED -- WATCH FOR UPDATES
DESCRIPTION:  \nCLASS SERIES POSTPONED — WATCH FOR UPDATES — NO CLASS TONIGHT \nLink for the group of 4 classes for $300.00 (A $100.00 savings): https://trackolytes.as.me/Wisdom-of-Wilderness \n  \nLinks for each separate class at $100.00 each \n•Feb. 12\, Wilderness safety https://trackolytes.as.me/Wilderness-1 \n•Feb. 19\, Awareness: the most important skill in life https://trackolytes.as.me/Awareness1 \n•Feb. 26\, Edible plans and ethical foraging: https://trackolytes.as.me/edible-ethical \n•March 5\, Animal tracks and sign: https://trackolytes.as.me/Tracks-sign \n  \n  \nTom Brown III\, often known as T3\, is a lifelong wilderness educator\, nature photographer\, and storyteller dedicated to carrying forward the ancestral skills and philosophies taught to him by his father\, Tom Brown Jr. Tom or “T3” has been teaching for 26 years\, And has a lifetime of practical experience in wilderness living\, tracking\, survival\, and nature connection\, And stewardship.  Tom’s work focuses on helping people rediscover confidence\, awareness\, and a meaningful relationship with the natural world. His teaching blends practical skills\, deep observation\, and personal insight\, making complex knowledge approachable and relevant for modern life. \nDuring this collaboration with the School of Self-Reliance\, Tom will be offering four foundational classes designed to build confidence\, awareness\, and self sufficiency in natural settings. \nWilderness Safety\, Taking the Fear Out of Wild Places   [on-line class on February 12] \nThis class focuses on mindset\, preparation\, and core survival priorities. Students will learn how to stay calm\, make good decisions\, and use a small set of essential items to dramatically increase their chances of success in emergency situations. \nAwareness: The most important life skill.  [on-line class on February 19] \nFocused on moving quietly and efficiently through the landscape\, this class explores posture\, balance\, awareness\, and energy use. These skills improve tracking ability\, personal safety\, and overall connection to the environment. \nWild Edible Plants and Ethical Foraging  [on-line class February 26] \nThis class teaches how to identify common wild edible plants while emphasizing safety\, sustainability\, and respect for the land. Students will learn how to forage responsibly and deepen their awareness of seasonal abundance. \nAnimal Tracks and Sign  [on-line class March 5] \nAn introduction to reading the stories animals leave behind. Students will learn how to identify common tracks and signs\, understand animal behavior\, and sharpen observation skills that translate far beyond the trail. \nTogether\, these classes offer a well rounded introduction to ancestral skills that foster self-reliance\, awareness\, and a deeper sense of belonging in the natural world. \n  \nWhether you are an absolute novice or seasoned outdoors person\, I can guarantee you will learn many valuable techniques to apply every time we enter the wilderness! \nSIGN UP HERE: \nhttps://trackolytes.as.me/meet-T3 \n 
URL:https://www.schoolofself-reliance.com/event/tom-brown-iii-class-series-2-wilderness-safety/
END:VEVENT
BEGIN:VEVENT
DTSTART;TZID=America/Los_Angeles:20260221T100000
DTEND;TZID=America/Los_Angeles:20260221T150000
DTSTAMP:20260423T151427
CREATED:20210810T180802Z
LAST-MODIFIED:20251230T071117Z
UID:39873-1771668000-1771686000@www.schoolofself-reliance.com
SUMMARY:WILDERNESS SURVIVAL FOUNDATION COURSE
DESCRIPTION:Saturday\, February 21\, 10 a.m. to 3 p.m. \nWilderness survival: “Foundation Course”  — Led by Keith Farrar\, James Ruther\, and assorted ad hoc\, adjunct assistants. \n \n\n\n\n\n\n\n\n\n\n\n\nWilderness Survival Foundation Course:\n\nNot all who wander are lost\, however\, some are\, which is why learning Wilderness Survival is critical.\n\nIn this  Wilderness Survival Foundation Course\, we address the priorities in a wilderness survival situation.\nLearning what priority to address first and how to address each priority is the best way to understand what to do if you have to spend an unplanned night or two in the wilderness.\n\nEach topic is addressed in such a way that you will have a thorough understanding along with hands-on experience with that skill. While each topic\, on its own\, can be a full multi-day class\, you will be comfortable enough with what you learn at this foundation class –or curious enough — to go further in your learning experience.\n\n\nJames Ruther demonstrating how to make a survival net\n\nDue to personalized instruction\, class size is limited.\n\nWhat to bring:\nPlease bring a camp chair\, lunch (there is no time to leave for lunch)\, water\, appropriate clothing for the weather a compass (if you have one) and any personal wilderness survival items you might like to discuss.\n\nWe start the class at 10:00 (please arrive a bit early) and we finish around 3:00. There will be a very short lunch break somewhere along the program.\n\nThere are several hands-on portions\, including but not limited to:\n\nEmergency Shelter Set-Up’s\nCritical outdoor knots to facilitate emergency shelters\nFire making (modern & primitive)\nBasic Compass use\nEmergency Navigation\nSignaling for rescue\nWater Purification\nDeadfall Traps\n\nWhat is different about this class? So may survival instructors give a list of gear to carry….we teach what needs to be done\, and from that information\, you decide what gear to carry based on what you are comfortable using to facilitate each priority in a survival situation.\n\nKeith has taught this program for over 15 years and feels your confidence in what to do in a wilderness survival situation will significantly increase with the knowledge gained in this class.\n\n\n\n\n\n\n\n\n\n\n\n\n\nLearning about emergency shelters\n$75.  [$55 for seniors/ students] \nLocation sent out upon registration.  \nKeith Farrar demonstrates how to turn a tarp into an emergency shelter
URL:https://www.schoolofself-reliance.com/event/wilderness-survival-foundation-course/
CATEGORIES:Bushcraft,Ethno-botany,Survival Skills,Urban skills
END:VEVENT
END:VCALENDAR