BEGIN:VCALENDAR
VERSION:2.0
PRODID:-//School of Self-Reliance - ECPv6.15.13//NONSGML v1.0//EN
CALSCALE:GREGORIAN
METHOD:PUBLISH
X-WR-CALNAME:School of Self-Reliance
X-ORIGINAL-URL:https://www.schoolofself-reliance.com
X-WR-CALDESC:Events for School of Self-Reliance
REFRESH-INTERVAL;VALUE=DURATION:PT1H
X-Robots-Tag:noindex
X-PUBLISHED-TTL:PT1H
BEGIN:VTIMEZONE
TZID:America/Los_Angeles
BEGIN:DAYLIGHT
TZOFFSETFROM:-0800
TZOFFSETTO:-0700
TZNAME:PDT
DTSTART:20240310T100000
END:DAYLIGHT
BEGIN:STANDARD
TZOFFSETFROM:-0700
TZOFFSETTO:-0800
TZNAME:PST
DTSTART:20241103T090000
END:STANDARD
BEGIN:DAYLIGHT
TZOFFSETFROM:-0800
TZOFFSETTO:-0700
TZNAME:PDT
DTSTART:20250309T100000
END:DAYLIGHT
BEGIN:STANDARD
TZOFFSETFROM:-0700
TZOFFSETTO:-0800
TZNAME:PST
DTSTART:20251102T090000
END:STANDARD
BEGIN:DAYLIGHT
TZOFFSETFROM:-0800
TZOFFSETTO:-0700
TZNAME:PDT
DTSTART:20260308T100000
END:DAYLIGHT
BEGIN:STANDARD
TZOFFSETFROM:-0700
TZOFFSETTO:-0800
TZNAME:PST
DTSTART:20261101T090000
END:STANDARD
END:VTIMEZONE
BEGIN:VEVENT
DTSTART;TZID=America/Los_Angeles:20251011T100000
DTEND;TZID=America/Los_Angeles:20251011T140000
DTSTAMP:20260424T012153
CREATED:20201126T065917Z
LAST-MODIFIED:20250524T025304Z
UID:27699-1760176800-1760191200@www.schoolofself-reliance.com
SUMMARY:NATIVE AMERICAN USES OF PLANTS
DESCRIPTION:Saturday\, October 11\, 10 a.m. \nBarbara Kolander with ripe elder berries\nCatalina Island cherry fruits\n  \nNATIVE AMERICAN USES OF PLANTS. \nSarah Shin collects some ripe coffeeberries\nLearn about the many plant contributions of Native Americans to our culture today – plants for food\, medicine\, and tools.   You’ll get to see these plants that are in many cases very common\, and simply taken for granted\, without generally recognition of their rich history.  This will be a botanical exploration of the many plants of the Americas that many of us still use today. \nWe begin with the many plants from the Americas which have profoundly affected the diet of the world. \nOn our walk\, you will get to see many of these plants and learn h ow they were used. \n  \nOf course\, in today’s world\, we will see many wild plants that have been introduced from Europe and Asia and elsewhere. We will discuss these plants if native peoples began to use them after they were introduced into North America. \nWe will make one or two food dishes from native foods\, so bring your bowl and cup \n \n \n  \n$65  ( $45 for seniors/students). \n Books and products will be available for sale.
URL:https://www.schoolofself-reliance.com/event/native-american-heritage-day-commemoration/
CATEGORIES:Ethno-botany,medicinal plants,uses of willow
ATTACH;FMTTYPE=image/jpeg:https://www.schoolofself-reliance.com/wp-content/uploads/2021/11/Cobb-oak-06-scaled.jpg
END:VEVENT
END:VCALENDAR