BEGIN:VCALENDAR
VERSION:2.0
PRODID:-//School of Self-Reliance - ECPv6.15.13//NONSGML v1.0//EN
CALSCALE:GREGORIAN
METHOD:PUBLISH
X-WR-CALNAME:School of Self-Reliance
X-ORIGINAL-URL:https://www.schoolofself-reliance.com
X-WR-CALDESC:Events for School of Self-Reliance
REFRESH-INTERVAL;VALUE=DURATION:PT1H
X-Robots-Tag:noindex
X-PUBLISHED-TTL:PT1H
BEGIN:VTIMEZONE
TZID:America/Los_Angeles
BEGIN:DAYLIGHT
TZOFFSETFROM:-0800
TZOFFSETTO:-0700
TZNAME:PDT
DTSTART:20250309T100000
END:DAYLIGHT
BEGIN:STANDARD
TZOFFSETFROM:-0700
TZOFFSETTO:-0800
TZNAME:PST
DTSTART:20251102T090000
END:STANDARD
BEGIN:DAYLIGHT
TZOFFSETFROM:-0800
TZOFFSETTO:-0700
TZNAME:PDT
DTSTART:20260308T100000
END:DAYLIGHT
BEGIN:STANDARD
TZOFFSETFROM:-0700
TZOFFSETTO:-0800
TZNAME:PST
DTSTART:20261101T090000
END:STANDARD
BEGIN:DAYLIGHT
TZOFFSETFROM:-0800
TZOFFSETTO:-0700
TZNAME:PDT
DTSTART:20270314T100000
END:DAYLIGHT
BEGIN:STANDARD
TZOFFSETFROM:-0700
TZOFFSETTO:-0800
TZNAME:PST
DTSTART:20271107T090000
END:STANDARD
END:VTIMEZONE
BEGIN:VEVENT
DTSTART;TZID=America/Los_Angeles:20260502T100000
DTEND;TZID=America/Los_Angeles:20260502T133000
DTSTAMP:20260423T150707
CREATED:20240808T192745Z
LAST-MODIFIED:20260311T214646Z
UID:59665-1777716000-1777728600@www.schoolofself-reliance.com
SUMMARY:URBAN PREPAREDNESS  -- in view of the many recent Disasters
DESCRIPTION:Urban Survival Guide\, by Nyerges\nSaturday\,  May 2\, 10 a.m. \nUrban Preparedness can mean a life of self-reliance!   But it also means you’re a bit more prepared for disasters such as an earthquake\, or a flood\, or a fire. \nWe will cover some of the basic elements that you should know in order to take care of yourself at home.  This class is all about urban preparedness. \nWe’ll cover issues about WATER and how to store water in Los Angeles County.  What FOODS should you store\, and grow.  We will also show (and cook) some wild foods. We will share how to COOK in your backyard if you can’t use  your indoor stove.  We will address first aid only minimally — we suggest  you take a Red Cross course. We will share TOILET alternative that is relatively easy.  We will also show some of the alternate devices to ELECTRICAL devices.   And we’ll talk about the notion of a “bug out bag\,” and some common sense\, such as the benefits of joining Neighborhood Watch\, or starting one\, if one is not active in your neighborhood. \nThis class will include a short PLANT WALK to learn about edible and medicinal wild plants. \nLocation sent with registration \nBooks and products will be available for sale \n \n \n 
URL:https://www.schoolofself-reliance.com/event/urban-preparedness/
CATEGORIES:Ethno-botany,Survival Skills,Urban skills
ATTACH;FMTTYPE=image/jpeg:https://www.schoolofself-reliance.com/wp-content/uploads/2022/06/IMG_8178-2-scaled.jpg
END:VEVENT
END:VCALENDAR