BEGIN:VCALENDAR
VERSION:2.0
PRODID:-//School of Self-Reliance - ECPv6.15.13//NONSGML v1.0//EN
CALSCALE:GREGORIAN
METHOD:PUBLISH
X-WR-CALNAME:School of Self-Reliance
X-ORIGINAL-URL:https://www.schoolofself-reliance.com
X-WR-CALDESC:Events for School of Self-Reliance
REFRESH-INTERVAL;VALUE=DURATION:PT1H
X-Robots-Tag:noindex
X-PUBLISHED-TTL:PT1H
BEGIN:VTIMEZONE
TZID:America/Los_Angeles
BEGIN:DAYLIGHT
TZOFFSETFROM:-0800
TZOFFSETTO:-0700
TZNAME:PDT
DTSTART:20250309T100000
END:DAYLIGHT
BEGIN:STANDARD
TZOFFSETFROM:-0700
TZOFFSETTO:-0800
TZNAME:PST
DTSTART:20251102T090000
END:STANDARD
BEGIN:DAYLIGHT
TZOFFSETFROM:-0800
TZOFFSETTO:-0700
TZNAME:PDT
DTSTART:20260308T100000
END:DAYLIGHT
BEGIN:STANDARD
TZOFFSETFROM:-0700
TZOFFSETTO:-0800
TZNAME:PST
DTSTART:20261101T090000
END:STANDARD
BEGIN:DAYLIGHT
TZOFFSETFROM:-0800
TZOFFSETTO:-0700
TZNAME:PDT
DTSTART:20270314T100000
END:DAYLIGHT
BEGIN:STANDARD
TZOFFSETFROM:-0700
TZOFFSETTO:-0800
TZNAME:PST
DTSTART:20271107T090000
END:STANDARD
END:VTIMEZONE
BEGIN:VEVENT
DTSTART;TZID=America/Los_Angeles:20260516T100000
DTEND;TZID=America/Los_Angeles:20260516T140000
DTSTAMP:20260424T041903
CREATED:20210223T040602Z
LAST-MODIFIED:20260424T022837Z
UID:31904-1778925600-1778940000@www.schoolofself-reliance.com
SUMMARY:ANIMAL TRACKING with Rob Remedi--  CLASS IN HONOR OF MASTER TRACKER JIM LOWRY\, RIP
DESCRIPTION:T \n  \nThis class on  ANIMAL TRACKING with Rob Remedi \nwill be held in honor of Jim Lowery\, master tracker\, who passed away in April 2026. \nRob Remedi was Lowery’s top student and acolyte\, and he passes along the tradition of Jim Lowery.  We will say a few words about Lowery at this class for those of you who didn’t know him. \n  \nSaturday\, May 16\, 10 a.m. to 2:30 p.m.  \n\n\n\nRob Remedi\n\n\nLET’S GO ANIMAL TRACKING\n\nANIMAL TRACKING\n\n\nWhether you’re new to animal tracking or already have some experience\, this class will provide you with ample knowledge and a solid foundational skillset on the art and science of tracking.  The outing covers actual field observation and practice in Clear Print Identification\, Wildlife Sign and Interpretation (including track aging)\, Gaits and Patterns\, and concepts in Behavior and Sign on the Landscape.\n\nThe outing location offers great possibility especially of finding track and sign of a wide scope of animals such as mountain lion\, coyote\, fox\, deer\, raccoon\, skunk\, rabbit\, squirrel\, turtle\, frog\, owl\, hawk\, and many others!   The experience is guaranteed to have you looking at the ground and landscape in a completely different way.\n\n\n\nRob is one of the best trackers we’ve ever met — and time spent with Rob is time well spent on your tracker education.\n\n\n\nNote:  We’ll take an easy-rated slow-going walk\, 1.0 mile\, mostly on-trail yet a bit off trail exploration in a dry streambed.\n\n\nRSVP\nArroyo Seco (exact directions sent with registration)\n\n\n$65 ($45 senior/student)\n\n\n\n\n\n\n\nJoin us to learn to read the ground for an accurate account of the animals who call home in our local mountains and parks.\n\n\nThis class is led by instructor Robert Remedi\, a locally certified tracker with over 30 years’ experience\, one of the most knowledgeable trackers and wilderness teachers in the U.S. today.\n\nBring:  Proper clothing for weather\,  water\, snacks\, lunch\, notebook/pen\, hat\, sunscreen\, bandana\, bowl\, utensils.\n\n 
URL:https://www.schoolofself-reliance.com/event/tracking-wildlife-with-rob-remedi/
CATEGORIES:Survival Skills,Tracking
ATTACH;FMTTYPE=image/jpeg:https://www.schoolofself-reliance.com/wp-content/uploads/2021/02/Remedi-byJavier060819C.jpg
END:VEVENT
END:VCALENDAR