BEGIN:VCALENDAR
VERSION:2.0
PRODID:-//School of Self-Reliance - ECPv6.15.13//NONSGML v1.0//EN
CALSCALE:GREGORIAN
METHOD:PUBLISH
X-ORIGINAL-URL:https://www.schoolofself-reliance.com
X-WR-CALDESC:Events for School of Self-Reliance
REFRESH-INTERVAL;VALUE=DURATION:PT1H
X-Robots-Tag:noindex
X-PUBLISHED-TTL:PT1H
BEGIN:VTIMEZONE
TZID:UTC
BEGIN:STANDARD
TZOFFSETFROM:+0000
TZOFFSETTO:+0000
TZNAME:UTC
DTSTART:20240101T000000
END:STANDARD
END:VTIMEZONE
BEGIN:VTIMEZONE
TZID:America/Los_Angeles
BEGIN:DAYLIGHT
TZOFFSETFROM:-0800
TZOFFSETTO:-0700
TZNAME:PDT
DTSTART:20240310T100000
END:DAYLIGHT
BEGIN:STANDARD
TZOFFSETFROM:-0700
TZOFFSETTO:-0800
TZNAME:PST
DTSTART:20241103T090000
END:STANDARD
BEGIN:DAYLIGHT
TZOFFSETFROM:-0800
TZOFFSETTO:-0700
TZNAME:PDT
DTSTART:20250309T100000
END:DAYLIGHT
BEGIN:STANDARD
TZOFFSETFROM:-0700
TZOFFSETTO:-0800
TZNAME:PST
DTSTART:20251102T090000
END:STANDARD
BEGIN:DAYLIGHT
TZOFFSETFROM:-0800
TZOFFSETTO:-0700
TZNAME:PDT
DTSTART:20260308T100000
END:DAYLIGHT
BEGIN:STANDARD
TZOFFSETFROM:-0700
TZOFFSETTO:-0800
TZNAME:PST
DTSTART:20261101T090000
END:STANDARD
END:VTIMEZONE
BEGIN:VEVENT
DTSTART;TZID=UTC:20250703T120000
DTEND;TZID=UTC:20250703T140000
DTSTAMP:20260424T004250
CREATED:20191226T200002Z
LAST-MODIFIED:20250630T202745Z
UID:9933-1751544000-1751551200@www.schoolofself-reliance.com
SUMMARY:LUNCHTIME PLANT WALK IN THE ARROYO
DESCRIPTION:LUNCHTIME BOTANICAL WALK \nThursday\, July 3\, Noon \n  \nNOTE: BE SURE TO RSVP TO GET THE LOCATION.\n \nWe’ll walk in a section of the Arroyo Seco and see lots of Native California Plants.  You’ll learn about their history and unique traditional uses from the Old Days. \n \nWe’ll see edible and medicinal plants. We’ll do some foraging\, and depending on what is available\, we might make a salad\, so bring your bowl\, and bring your canteen. \n \nDirections sent upon registration.
URL:https://www.schoolofself-reliance.com/event/noon-lunchtime-plant-walk-in-the-arroyo-20/
CATEGORIES:Bushcraft,Ethno-botany,Foraging,medicinal plants,mulefat,plants for making fire
END:VEVENT
BEGIN:VEVENT
DTSTART;TZID=America/Los_Angeles:20250731T120000
DTEND;TZID=America/Los_Angeles:20250731T140000
DTSTAMP:20260424T004250
CREATED:20191217T042050Z
LAST-MODIFIED:20250717T045158Z
UID:11910-1753963200-1753970400@www.schoolofself-reliance.com
SUMMARY:LUNCHTIME NATURALIST & FORAGING WALK
DESCRIPTION:Thursday\, July 31\, Noon \nFORAGING WALK \nJoin us as we explore the landscape with a naturalist’s eyes. We’ll learn about plants used by generations of indigenous peoples.  We’ll see the many plants used for generations of people for wild foods\, medicines\, and utility.  We’ll see California native plants\, and we’ll see non-native edibles and medicinals. \nAnd\, if we get that far\, we’ll explore some of the uses of yucca and other natural fibres. \n \nBring water\, and your bowl. Hahamongna Watershed Park\, Location 2. \n  \nRegular $45 (senior/students $30) \nExact location sent with registration
URL:https://www.schoolofself-reliance.com/event/lunchtime-naturalist-walk-25-2/
CATEGORIES:Ethno-botany
END:VEVENT
END:VCALENDAR