BEGIN:VCALENDAR
VERSION:2.0
PRODID:-//School of Self-Reliance - ECPv6.15.13//NONSGML v1.0//EN
CALSCALE:GREGORIAN
METHOD:PUBLISH
X-ORIGINAL-URL:https://www.schoolofself-reliance.com
X-WR-CALDESC:Events for School of Self-Reliance
REFRESH-INTERVAL;VALUE=DURATION:PT1H
X-Robots-Tag:noindex
X-PUBLISHED-TTL:PT1H
BEGIN:VTIMEZONE
TZID:America/Los_Angeles
BEGIN:DAYLIGHT
TZOFFSETFROM:-0800
TZOFFSETTO:-0700
TZNAME:PDT
DTSTART:20240310T100000
END:DAYLIGHT
BEGIN:STANDARD
TZOFFSETFROM:-0700
TZOFFSETTO:-0800
TZNAME:PST
DTSTART:20241103T090000
END:STANDARD
BEGIN:DAYLIGHT
TZOFFSETFROM:-0800
TZOFFSETTO:-0700
TZNAME:PDT
DTSTART:20250309T100000
END:DAYLIGHT
BEGIN:STANDARD
TZOFFSETFROM:-0700
TZOFFSETTO:-0800
TZNAME:PST
DTSTART:20251102T090000
END:STANDARD
BEGIN:DAYLIGHT
TZOFFSETFROM:-0800
TZOFFSETTO:-0700
TZNAME:PDT
DTSTART:20260308T100000
END:DAYLIGHT
BEGIN:STANDARD
TZOFFSETFROM:-0700
TZOFFSETTO:-0800
TZNAME:PST
DTSTART:20261101T090000
END:STANDARD
END:VTIMEZONE
BEGIN:VTIMEZONE
TZID:UTC
BEGIN:STANDARD
TZOFFSETFROM:+0000
TZOFFSETTO:+0000
TZNAME:UTC
DTSTART:20240101T000000
END:STANDARD
END:VTIMEZONE
BEGIN:VEVENT
DTSTART;TZID=America/Los_Angeles:20250515T120000
DTEND;TZID=America/Los_Angeles:20250515T140000
DTSTAMP:20260424T044108
CREATED:20211025T220437Z
LAST-MODIFIED:20250501T192216Z
UID:43511-1747310400-1747317600@www.schoolofself-reliance.com
SUMMARY:WILD FOOD FORAGING WALK  --  with salad
DESCRIPTION:  \n  \nThursday\,  May 15\, noon \n \n \nWILD FOOD FORAGING:  LUNCH TIME PLANT WALK \nJoin us to learn some of the basics of wild plant identification\, and how to use certain wild plants for food.  We’ll discuss some of the common “safe” botanical families\, and how to determine if  you have the right plant.   Learn how to prepare some simple dishes. \n  \nJoin us for a walkabout in a wild area in the city!  We’ll also explore native and introduced plants that grow here.   You will be able to take cuttings to grow at home. \nWe will see introduced tree\, native trees\, native plants\, many introduced European plants.  Minimal walking. \n  \n  \nBring water\, and a bowl (we might make a salad).  A few of the plants found here we rarely see anywhere else. \n  \n$45 ($30 seniors/students). \n5835 Burwood Ave.\, Highland Park\, CA 90042 \n \n  \n 
URL:https://www.schoolofself-reliance.com/event/plant-walkplant-walk-in-big-tujunga-wash-join-us-for-a-walkabout-in-the-large-flat-expanse-of-the-tujunga-wash-near-sunland/
CATEGORIES:Ethno-botany,medicinal plants,mulefat,uses of willow
ATTACH;FMTTYPE=image/jpeg:https://www.schoolofself-reliance.com/wp-content/uploads/2024/04/sowThistle-Dude-2.jpg
END:VEVENT
BEGIN:VEVENT
DTSTART;TZID=UTC:20250524T100000
DTEND;TZID=UTC:20250524T133000
DTSTAMP:20260424T044108
CREATED:20190703T144718Z
LAST-MODIFIED:20250507T230622Z
UID:9980-1748080800-1748093400@www.schoolofself-reliance.com
SUMMARY:IN DEPTH MEDICINAL AND EDIBLE PLANT walk -- with focus on chaparral and native plants
DESCRIPTION:Saturday\, May 24\, 10 a.m.  MEDICINAL AND EDIBLE PLANT walk \nCALIFORNIA FORAGING ….. SOUTHERN CALIFORNIA FORAGING \n  \n \nIn this walk\,  we’ll be looking at some of the common plants — wild — native and non-native\, with a focus on the chaparral environment.  A true California foraging class!  You will see and learn about the edible\, and medicinal\, uses of these wild plants of the chaparral. \nAs Hippocrates said\, our food should be our medicine.  As we explore\, we will identify many of the wild plants found along the trail.  Most will be common plants that could be found in your backyard and local neighborhood which can be used for food and medicine in these times. \nIt’s often surprising to learn that some of the best medicine-foods are not grown on farms at all. Learn the two foods that author Michael Pollan suggests you eat. \nJoin us for this class  and we’ll try some wild teas\, soup\, and probably more. \nBring water and bring your bowl. \nLocation sent upon registration.
URL:https://www.schoolofself-reliance.com/event/learn-about-local-wild-plants-for-food-for-medicine-in-your-backyard/
CATEGORIES:Ethno-botany,medicinal plants
END:VEVENT
BEGIN:VEVENT
DTSTART;TZID=America/Los_Angeles:20250529T120000
DTEND;TZID=America/Los_Angeles:20250529T140000
DTSTAMP:20260424T044108
CREATED:20200504T223400Z
LAST-MODIFIED:20250507T231722Z
UID:18044-1748520000-1748527200@www.schoolofself-reliance.com
SUMMARY:URBAN SURVIVAL SERIES -- FOOD and WATER STORAGE  -- IN THE CITY
DESCRIPTION:FOOD IN THE CITY.  FOOD AND WATER STORAGE \nThursday\, May 29\, Noon \n  \nWe will start with basic home food storage. What should YOU store?  How long do these foods last?  Can you dry some of your own foods? \n  \nWe will also talk about the abundant food in the cities\, if you know where to look:  We will  explore the trees on city streets\, weeds\, neighborhood gardens\, and trading. \n \nWhat grows good in your yard?  Are there food items from your trees and bushes?  Do you have edible weeds?  Do you grow prickly pear cactus? \nLearn how to eat the older nopales\n \n \nWe will cover the basics of securing a water supply\, including local streams\, and even rain and solar stills\, as above.  We will address various methods of water purification\, such as SODIS.  And we will share the many ways you can store water in your own home. \nTraditional food storage involves drying\, canning\, picking\, and freeze-dried.  We’ll discuss each of these.   In an emergency\, you’ll want food not dependent on electricity for storage. \n  \nLearn some of the basics of food storage\, and how to create your own food storage system.  Don’t put all your eggs in one basket! \n \n \n  \n$45  ($30 student/senior). \n  \n 
URL:https://www.schoolofself-reliance.com/event/urban-preparedness-skills/
CATEGORIES:Ethno-botany,Survival Skills,Urban skills
END:VEVENT
END:VCALENDAR