BEGIN:VCALENDAR
VERSION:2.0
PRODID:-//School of Self-Reliance - ECPv6.15.13//NONSGML v1.0//EN
CALSCALE:GREGORIAN
METHOD:PUBLISH
X-ORIGINAL-URL:https://www.schoolofself-reliance.com
X-WR-CALDESC:Events for School of Self-Reliance
REFRESH-INTERVAL;VALUE=DURATION:PT1H
X-Robots-Tag:noindex
X-PUBLISHED-TTL:PT1H
BEGIN:VTIMEZONE
TZID:America/Los_Angeles
BEGIN:DAYLIGHT
TZOFFSETFROM:-0800
TZOFFSETTO:-0700
TZNAME:PDT
DTSTART:20250309T100000
END:DAYLIGHT
BEGIN:STANDARD
TZOFFSETFROM:-0700
TZOFFSETTO:-0800
TZNAME:PST
DTSTART:20251102T090000
END:STANDARD
BEGIN:DAYLIGHT
TZOFFSETFROM:-0800
TZOFFSETTO:-0700
TZNAME:PDT
DTSTART:20260308T100000
END:DAYLIGHT
BEGIN:STANDARD
TZOFFSETFROM:-0700
TZOFFSETTO:-0800
TZNAME:PST
DTSTART:20261101T090000
END:STANDARD
BEGIN:DAYLIGHT
TZOFFSETFROM:-0800
TZOFFSETTO:-0700
TZNAME:PDT
DTSTART:20270314T100000
END:DAYLIGHT
BEGIN:STANDARD
TZOFFSETFROM:-0700
TZOFFSETTO:-0800
TZNAME:PST
DTSTART:20271107T090000
END:STANDARD
END:VTIMEZONE
BEGIN:VEVENT
DTSTART;TZID=America/Los_Angeles:20260514T120000
DTEND;TZID=America/Los_Angeles:20260514T140000
DTSTAMP:20260423T134551
CREATED:20200101T020158Z
LAST-MODIFIED:20260414T004338Z
UID:12547-1778760000-1778767200@www.schoolofself-reliance.com
SUMMARY:MEDICINAL PLANT WALK
DESCRIPTION:Thursday\, May 14\, Noon. MEDICINAL PLANT WALK \nWhen you study the floral wealth of the world\, you find that many plants are very efficacious in healing many of our illnesses and symptoms.   This is a unique and valuable survival skill! \nJust a few generations ago\, before everyone got hooked on drugs and hospitals\, the knowledge of using wild and garden plants for common medical applications was common and normal. Our grandparents often foraged for their own medicinal plants in fields and backyards. \nOn our walk\, we’ll see many of the local herbs used for medicine\, and discuss some proven methods for dealing with common illnesses that are both proven and safe. \nLocation:  Arroyo Seco\, exact location sent upon registration.
URL:https://www.schoolofself-reliance.com/event/medicinal-plant-walk/
CATEGORIES:Bushcraft,Ethno-botany,medicinal plants
END:VEVENT
END:VCALENDAR