BEGIN:VCALENDAR
VERSION:2.0
PRODID:-//School of Self-Reliance - ECPv6.15.13//NONSGML v1.0//EN
CALSCALE:GREGORIAN
METHOD:PUBLISH
X-ORIGINAL-URL:https://www.schoolofself-reliance.com
X-WR-CALDESC:Events for School of Self-Reliance
REFRESH-INTERVAL;VALUE=DURATION:PT1H
X-Robots-Tag:noindex
X-PUBLISHED-TTL:PT1H
BEGIN:VTIMEZONE
TZID:America/Los_Angeles
BEGIN:DAYLIGHT
TZOFFSETFROM:-0800
TZOFFSETTO:-0700
TZNAME:PDT
DTSTART:20250309T100000
END:DAYLIGHT
BEGIN:STANDARD
TZOFFSETFROM:-0700
TZOFFSETTO:-0800
TZNAME:PST
DTSTART:20251102T090000
END:STANDARD
BEGIN:DAYLIGHT
TZOFFSETFROM:-0800
TZOFFSETTO:-0700
TZNAME:PDT
DTSTART:20260308T100000
END:DAYLIGHT
BEGIN:STANDARD
TZOFFSETFROM:-0700
TZOFFSETTO:-0800
TZNAME:PST
DTSTART:20261101T090000
END:STANDARD
BEGIN:DAYLIGHT
TZOFFSETFROM:-0800
TZOFFSETTO:-0700
TZNAME:PDT
DTSTART:20270314T100000
END:DAYLIGHT
BEGIN:STANDARD
TZOFFSETFROM:-0700
TZOFFSETTO:-0800
TZNAME:PST
DTSTART:20271107T090000
END:STANDARD
END:VTIMEZONE
BEGIN:VEVENT
DTSTART;TZID=America/Los_Angeles:20260305T120000
DTEND;TZID=America/Los_Angeles:20260305T140000
DTSTAMP:20260423T133207
CREATED:20200101T021021Z
LAST-MODIFIED:20260209T021259Z
UID:12555-1772712000-1772719200@www.schoolofself-reliance.com
SUMMARY:LUNCHTIME FORAGING WALK - Learn Plant ID\,  Learn edible plants
DESCRIPTION:Thursday\, March 5\, Noon\, LUNCHTIME PLANT ID WALK \nEver wondered what sort of useful plants  grow right in the city\, including medicinal plants?  We’ll explore a unique one-acre wildlife sanctuary in the Highland Park area where we will see native plants\, cultivated plants and many of the plants so typical of the urban areas. \nYou will be able to collect samples.  There is also a greenhouse on -site where you can purchase potted plants to take home to your garden. \nWe will learn about the food uses\, medicines\, fibres\, and more. Our discussion will revolve around ethical foraging\, and you will be able to collect greens to take home\, and cuttings in some cases.  There is also a nursery on the site where you can purchase various potted plants to take home. \nWe’ll also make a simple salad so you can taste some of the in-season foods!  An excellent opportunity to see and taste some of the plants that everyone living in this area will encounter most of the time. \n \nWe will also review the Botanical Families that are entirely safe.   A good time to review. \nBring a bowl! \nA great survival skills for the ages. \n  \nLocation is 5835 Burwood Ave.\, off Figueroa in Highland Park.  Park on the street and we’ll walk up the dirt road into the one acre sanctuary. \nBring a bowl\, and water.   Be sure to RSVP. \nLearn how to eat the older nopales\n \n 
URL:https://www.schoolofself-reliance.com/event/lunchtime-plant-walk-2/
CATEGORIES:Ethno-botany,medicinal plants,mulefat,plants for making fire,uses of willow
END:VEVENT
BEGIN:VEVENT
DTSTART;TZID=America/Los_Angeles:20260314T100000
DTEND;TZID=America/Los_Angeles:20260314T133000
DTSTAMP:20260423T133207
CREATED:20200127T230639Z
LAST-MODIFIED:20260108T004254Z
UID:13715-1773482400-1773495000@www.schoolofself-reliance.com
SUMMARY:MEDICINAL PLANTS WORKSHOP with Dr. James Adams
DESCRIPTION:MEDICINAL PLANTS WORKSHOP WITH DR. JAMES ADAMS & Enrique Villasenor and Michelle Wong \npart of our ETHNO-BOTANY SERIES \nPart of our certification program. \nIn this field session\, Dr. James Adams will focus upon the uses of traditional native plants\, used for MEDICINE.   Dr. James Adams\, author of “Healing with Medicinal Plants of the West\,” will share his two decades of training in the subject of traditional healing herbs\, and he will demonstrate how certain pain-relieving linaments are made. \nStudents will be  shown how to make their own natural medicines. \nWe’ll discuss some of the ideal literature about healing with herbs\, and some of the herbs you can grow in your own yard. \nA truly eye-opening\, life-changing class! \nBRING: folding chair\,  glass jar (like a pickle jar)\, container of 70% isopropyl alcohol\, a tub (to soak your feet)\, an avocado seed. \n \nIn the Arroyo Seco. Exact location given upon registration. \nYou’ll actually learn to FORAGE for your own WILD MEDICINES.  An Excellent Survival Skill.
URL:https://www.schoolofself-reliance.com/event/ethno-botany-workshop-with-dr-james-adams/
CATEGORIES:medicinal plants
ATTACH;FMTTYPE=image/jpeg:https://www.schoolofself-reliance.com/wp-content/uploads/2019/08/Untitled-1.jpg
END:VEVENT
BEGIN:VEVENT
DTSTART;TZID=America/Los_Angeles:20260319T120000
DTEND;TZID=America/Los_Angeles:20260319T140000
DTSTAMP:20260423T133207
CREATED:20200101T001615Z
LAST-MODIFIED:20260316T181051Z
UID:12529-1773921600-1773928800@www.schoolofself-reliance.com
SUMMARY:LUNCHTIME PLANT WALK
DESCRIPTION:Thursday\, March 19\, Noon \nLunchtime Plant Walk: Focus on Medicines\, and Yucca \n\nWe’ll walk into the Arroyo Seco\, north of JPL\, and see the flora of the spring. We’ll see a variety of native and introduced flora.  We’ll walk along the alder-lined stream\, and see yucca\, and California coffeeberry\, black sage\, willow\, and more.  Bring water. A two hour exploratory walk.  From the intersection of Ventura and Windsor in Altadena\, continue north into the large parking area east of JPL. Park where you can to the north.  On our short walk\, we’ll explore along the river and a side canyon of the upper Arroyo.
URL:https://www.schoolofself-reliance.com/event/lunchtime-plant-walk/
CATEGORIES:Foraging
ATTACH;FMTTYPE=image/jpeg:https://www.schoolofself-reliance.com/wp-content/uploads/2021/10/Cobb-garden-31-scaled.jpg
END:VEVENT
END:VCALENDAR