BEGIN:VCALENDAR
VERSION:2.0
PRODID:-//School of Self-Reliance - ECPv6.15.13//NONSGML v1.0//EN
CALSCALE:GREGORIAN
METHOD:PUBLISH
X-ORIGINAL-URL:https://www.schoolofself-reliance.com
X-WR-CALDESC:Events for School of Self-Reliance
REFRESH-INTERVAL;VALUE=DURATION:PT1H
X-Robots-Tag:noindex
X-PUBLISHED-TTL:PT1H
BEGIN:VTIMEZONE
TZID:America/Los_Angeles
BEGIN:DAYLIGHT
TZOFFSETFROM:-0800
TZOFFSETTO:-0700
TZNAME:PDT
DTSTART:20240310T100000
END:DAYLIGHT
BEGIN:STANDARD
TZOFFSETFROM:-0700
TZOFFSETTO:-0800
TZNAME:PST
DTSTART:20241103T090000
END:STANDARD
BEGIN:DAYLIGHT
TZOFFSETFROM:-0800
TZOFFSETTO:-0700
TZNAME:PDT
DTSTART:20250309T100000
END:DAYLIGHT
BEGIN:STANDARD
TZOFFSETFROM:-0700
TZOFFSETTO:-0800
TZNAME:PST
DTSTART:20251102T090000
END:STANDARD
BEGIN:DAYLIGHT
TZOFFSETFROM:-0800
TZOFFSETTO:-0700
TZNAME:PDT
DTSTART:20260308T100000
END:DAYLIGHT
BEGIN:STANDARD
TZOFFSETFROM:-0700
TZOFFSETTO:-0800
TZNAME:PST
DTSTART:20261101T090000
END:STANDARD
END:VTIMEZONE
BEGIN:VEVENT
DTSTART;TZID=America/Los_Angeles:20251004T100000
DTEND;TZID=America/Los_Angeles:20251004T140000
DTSTAMP:20260423T214716
CREATED:20200129T193440Z
LAST-MODIFIED:20250811T181231Z
UID:13804-1759572000-1759586400@www.schoolofself-reliance.com
SUMMARY:BUSHCRAFT WEAPONRY WORKSHOP
DESCRIPTION:Saturday\,  October 4\, 10 a.m. \nWEAPONRY WORKSHOP\, focusing on TRAPS\, TRIGGERS\, DEADFALLS\, NETS\, etc. \n \n \nThese are bushcraft skills that everyone took for granted a few generations ago\, but which most urban folks know nothing about. Simple trapping of animals can be a life-or-death skill\, under certain circumstances. You’ll be provided with an overview of all primitive weapons systems\, both active and passive.  The techniques are generally quite simple\, but they take practice to master to the level where you are effective. \nWe will then focus on how to make the simplest of snares\, and trigger mechanisms for bird traps and dead falls\, such as the scarf trigger of the quail trap\, and the basic figure 4 trigger. \n \nYou’ll also learn how to make a basic net\, whose many applications include hammock\, fishing\, carrying net\, etc. \nYou will also learn about several other primitive and silent weapons\, both passive and active weapons. \nNo animals will be present\, and no animals will be harmed. This is strictly an educational how-to program. \nBring your knife since you will be making things.  Bring water\, and a snack if needed. \nLocation 2. Hahamongna Park but RSVP in case location must be changed. \nAlso bring your bowl\, and water\, since we will probably cook a wild dish. \nExact directions to be sent after registration. \n 
URL:https://www.schoolofself-reliance.com/event/weaponry-workshop-traps-triggers-deadfalls-nets-40/
CATEGORIES:Bushcraft
ATTACH;FMTTYPE=image/jpeg:https://www.schoolofself-reliance.com/wp-content/uploads/2020/01/IMG_8411.jpg
END:VEVENT
END:VCALENDAR