BEGIN:VCALENDAR
VERSION:2.0
PRODID:-//School of Self-Reliance - ECPv6.15.13//NONSGML v1.0//EN
CALSCALE:GREGORIAN
METHOD:PUBLISH
X-WR-CALNAME:School of Self-Reliance
X-ORIGINAL-URL:https://www.schoolofself-reliance.com
X-WR-CALDESC:Events for School of Self-Reliance
REFRESH-INTERVAL;VALUE=DURATION:PT1H
X-Robots-Tag:noindex
X-PUBLISHED-TTL:PT1H
BEGIN:VTIMEZONE
TZID:America/Los_Angeles
BEGIN:DAYLIGHT
TZOFFSETFROM:-0800
TZOFFSETTO:-0700
TZNAME:PDT
DTSTART:20250309T100000
END:DAYLIGHT
BEGIN:STANDARD
TZOFFSETFROM:-0700
TZOFFSETTO:-0800
TZNAME:PST
DTSTART:20251102T090000
END:STANDARD
BEGIN:DAYLIGHT
TZOFFSETFROM:-0800
TZOFFSETTO:-0700
TZNAME:PDT
DTSTART:20260308T100000
END:DAYLIGHT
BEGIN:STANDARD
TZOFFSETFROM:-0700
TZOFFSETTO:-0800
TZNAME:PST
DTSTART:20261101T090000
END:STANDARD
BEGIN:DAYLIGHT
TZOFFSETFROM:-0800
TZOFFSETTO:-0700
TZNAME:PDT
DTSTART:20270314T100000
END:DAYLIGHT
BEGIN:STANDARD
TZOFFSETFROM:-0700
TZOFFSETTO:-0800
TZNAME:PST
DTSTART:20271107T090000
END:STANDARD
END:VTIMEZONE
BEGIN:VTIMEZONE
TZID:UTC
BEGIN:STANDARD
TZOFFSETFROM:+0000
TZOFFSETTO:+0000
TZNAME:UTC
DTSTART:20250101T000000
END:STANDARD
END:VTIMEZONE
BEGIN:VEVENT
DTSTART;TZID=America/Los_Angeles:20260509T100000
DTEND;TZID=America/Los_Angeles:20260509T133000
DTSTAMP:20260423T161345
CREATED:20210519T193508Z
LAST-MODIFIED:20260414T011442Z
UID:35960-1778320800-1778333400@www.schoolofself-reliance.com
SUMMARY:FORAGING WALK -- WILD FOOD OUTING
DESCRIPTION:  \nMay 9\, 10 a.m \n \n  \nSaturday\, May 9\, 10 a.m. \nWILD FOOD FORAGING AND ETHNO-BOTANICAL WALK \nJoin us for our outing where we explore the edible\, medicinal\, and other useful qualities of many of the plants found in the environment with many introduced plants.  Both natives and non-natives will be seen.  This will be leisurely and you will get a chance to taste some of the plants. \nWe will introduce a few basics of systematic plant identification\, and ways you can take your own records.  We’ll also bring up another important point:  Many of the wild plants that we see — and especially the non-natives — can be easily cultivated in your own yard for ease of harvesting. Also\, we’ll tell you about some of the local native plant nurseries where you can obtain native plants — such as toyon\, ceonothus\, oak trees\, mulefat\, elder\, etc  — and grow them in your own yards\, which is an ideal situation. \nWear comfortable footwear and bring water.   Bring a bowl for eating. \nThis class can be credited towards the Ethno-botany certificate. \nDirections sent upon registration. \n$65 (Seniors and students $45). \n  \n \n 
URL:https://www.schoolofself-reliance.com/event/ethno-botanical-walk-2/
CATEGORIES:Ethno-botany,medicinal plants,mulefat,Survival Skills,uses of willow
END:VEVENT
BEGIN:VEVENT
DTSTART;TZID=America/Los_Angeles:20260523T100000
DTEND;TZID=America/Los_Angeles:20260523T150000
DTSTAMP:20260423T161345
CREATED:20220125T073307Z
LAST-MODIFIED:20260311T214048Z
UID:46016-1779530400-1779548400@www.schoolofself-reliance.com
SUMMARY:SURVIVAL SKILLS INTENSIVE --  An Field Overview of all the Skills you NEED
DESCRIPTION:May 23\, Saturday\,   10 a.m. \n \n \n \n  \nSURVIVAL SKILLS INTENSIVE \nMay 23\, 10 a.m. \n$75  ($55 for seniors and students) \n  \nHere’s a chance to practice all of the basic skills that are considered the essential skills.  We will do a little bit of everything\, and try to keep hiking to a minimum. \nKnowledge of plants and their many uses is a critical skill that relates to every other skill.  You will learn how to identify key plants\, and how to use them for food\, medicine\, fire-making\, cordage\, and more. \nFire-making is an essential survival skill\, and you should always have a few ways to make fire.  On this class\,  you will practice  primitive fire-making\, as well as cooking\, and water purification. \nAlong the way\, you will learn about emergency shelters\,  how to make cordage\, and more. \nA great day to get into the mountains with like-minded people. \nLocation details sent upon registration.  Bring a bowl\, knife\, and water. \n \n  \n  \nBooks by Nyerges available at class. \n 
URL:https://www.schoolofself-reliance.com/event/survival-skills-intensive-2/
CATEGORIES:Bushcraft,Ethno-botany,medicinal plants,mulefat,plants for making fire,shelter building,Survival Skills,uses of willow
ATTACH;FMTTYPE=image/jpeg:https://www.schoolofself-reliance.com/wp-content/uploads/2024/01/50-03-scaled.jpg
END:VEVENT
BEGIN:VEVENT
DTSTART;TZID=America/Los_Angeles:20260530T100000
DTEND;TZID=America/Los_Angeles:20260530T140000
DTSTAMP:20260423T161345
CREATED:20191217T040549Z
LAST-MODIFIED:20260414T011845Z
UID:11906-1780135200-1780149600@www.schoolofself-reliance.com
SUMMARY:FORAGING  WALKABOUT: WILD  FOOD & USEFUL PLANTS\, with Focus on FIRE and WEAVING plants
DESCRIPTION:FORAGING USEFUL WILD PLANTS — for FOOD\,  FIRE\, WEAVING\, MEDICINAL\, and UTILITARIAN — \nMay 30\, 10 a.m. \nWe will explore a watershed area\, seeing native and introduced plants. \nOur focus today will be to learn about those plants that are used for food\, making fire\, and weaving.  You will  learn about various edible plants\, and medicinal plants.   And while we might collect some greens used to make soup\, we want you to see the plants that will be used to make primitive fire.  And if you’re interested in basketry\, you will see the traditional plants used for cordage and weaving. \nActual networking!\n \n \nOn our walk\, you will learn  how to identify these plants\, and learn how to properly harvest. \nJoin us for an insightful walk into a wild area\, and learn about useful plants. \nBack at the tables\, we will show how to make the parts of a fire kit\, and you will get a chance to try it yourself.  And we will also demonstrate simple basketry techniques as well. \n \n  \n \n  \n  \n  \n  \nDress comfortably and bring water.  Bring a bowl for eating.   The trail will be more or less flat. \nLocation sent after registration. \n$65 [seniors/students $45).
URL:https://www.schoolofself-reliance.com/event/wild-food-and-useful-plants-by-the-season-2/
CATEGORIES:Ethno-botany,medicinal plants,shelter building,Survival Skills
ATTACH;FMTTYPE=image/jpeg:https://www.schoolofself-reliance.com/wp-content/uploads/2024/01/50-7.jpg
END:VEVENT
BEGIN:VEVENT
DTSTART;TZID=America/Los_Angeles:20260604T120000
DTEND;TZID=America/Los_Angeles:20260604T140000
DTSTAMP:20260423T161345
CREATED:20191221T074157Z
LAST-MODIFIED:20260414T005847Z
UID:12085-1780574400-1780581600@www.schoolofself-reliance.com
SUMMARY:LUNCHTIME EXPLORATORY NATURE WALK
DESCRIPTION:  \nThursday\, June 4\, noon \nEXPLORATORY NATURE WALK \nWe’ll explore the perimeter of  this section of the Arroyo Seco and find some of the in-season wild edibles\, and medicinal plants\, and we’ll view the overall basin. \nAlong this footpath\, we will find foods\, medicines\, and several plants used for weaving and basketry.  We’ll learn about the woods that were used for shelter\, and fire\, and discuss how some of the rocks were used in the past.  We’ll also see many of the “invasive” non-native edibles.  \nCarry a  water bottle. \nRSVP for exact directions to location. \n 
URL:https://www.schoolofself-reliance.com/event/lunchtime-exploratory-nature-walk/
CATEGORIES:Ethno-botany,Foraging,medicinal plants,mulefat,plants for making fire,Survival Skills
END:VEVENT
BEGIN:VEVENT
DTSTART;TZID=UTC:20260613T100000
DTEND;TZID=UTC:20260613T140000
DTSTAMP:20260423T161345
CREATED:20190703T144509Z
LAST-MODIFIED:20260414T012107Z
UID:9978-1781344800-1781359200@www.schoolofself-reliance.com
SUMMARY:BASIC NATURAL NAVIGATION\, AND ORIENTATION
DESCRIPTION:NATURAL NAVIGATION AND ORIENTATION \nSaturday\, June 13\, 10 a.m. \n \n \n \n \n \n  \n  \nWhat are some of the tried-and-proven methods for navigation that people have used for centuries? \nWe’ll begin with observations of the terrain — shadows\, looking at trees\, moisture\, feeling rocks\, insect signs\, etc. \nWe’ll learn how to use the stars\, the sun\, the moon\, for navigation\, including how to read the natural terrain.  These are skills that our grandparents took for granted\, but as we rely more and more on technologies\, we have forgotten these very basic skills. \nYes\, you’ll also learn the basics of how to read a map\, how to use a compass\, how to align the map with a compass\, and ways to navigate the terrain with these tools. \nSince this is a two-hour lunchtime class\, we will cover the most basic skills. \nWe’ll do exercises to test your new skills. Bring a notebook. \n  \nLocation sent with registration \n$65 (Students and seniors\, $45) \nThis class can be applied towards Bushcraft Certificate
URL:https://www.schoolofself-reliance.com/event/basic-natural-navigation-35/
CATEGORIES:Bushcraft,Survival Skills,Urban skills
ATTACH;FMTTYPE=image/jpeg:https://www.schoolofself-reliance.com/wp-content/uploads/2019/10/Navi-09.jpg
END:VEVENT
BEGIN:VEVENT
DTSTART;TZID=America/Los_Angeles:20260704T100000
DTEND;TZID=America/Los_Angeles:20260704T140000
DTSTAMP:20260423T161345
CREATED:20200113T185908Z
LAST-MODIFIED:20260311T214918Z
UID:13094-1783159200-1783173600@www.schoolofself-reliance.com
SUMMARY:TRADITIONAL  ARROW  MAKING
DESCRIPTION:  \n \nDude on right\, discusses a new traditional arrow made by Paul Campbell.\nSaturday\,  July 4\, 10 a.m.\, TRADITIONAL ARROW MAKING \n$65  ($45 for seniors and students) \n  \n  \nBUSHCRAFT SKILLS \nThis is one of the fundamental bushcraft skills that all hunter-gatherers needed to know.  You might make a new bow every year\, but you had to make arrows all the time. \nIn this class\, you will learn the basic parts of the arrow\, and how an arrow can be very simple\, or more complex. \nYou will learn at least two common methods that arrows were made in the past. You will learn each step of making the traditional arrow\, and then each student will make one. You will learn all the steps along the way\, from selection of wood\, shaft straightening\, to adding the nocks\, points\, and feathers. \nBring your knife\, and fine files if you have them. Otherwise\, tools will be provided. \nWhat’s more important?  The bow\, or the arrow?  Obviously\, the arrow\, since it is the projectile that flies through the air.  It must be straight\, and properly aligned. \nNearly every society of the past used archery for hunting\, and that meant LOTS of arrows.  You’ll learn that there are several ways to make an arrow that will shoot straight\, and you will make at least two. \nAgain\, bring whatever tools you might have. \nCost is $65\, with a senior and student rate of $45. \nBe sure to RSVP. LOCATION 2.  Hahamongna Watershed Park\, on Pasadena’s west side\, bordering with La Canada. Enter the park from Oak Grove and Foothill\, and drive into the park\, staying on the upper road (do NOT make that left turn and drive downhill)\,  until you see the outdoor  bathroom.  Park there. \n  \n \n  \n  \nCopies of books by Nyerges and Paul Campbell will be available. \n \n 
URL:https://www.schoolofself-reliance.com/event/traditional-arrow-making/
CATEGORIES:Bushcraft,mulefat,Survival Skills
ATTACH;FMTTYPE=image/jpeg:https://www.schoolofself-reliance.com/wp-content/uploads/2019/07/2016-10-20-045-scaled.jpg
END:VEVENT
BEGIN:VEVENT
DTSTART;TZID=America/Los_Angeles:20260711T100000
DTEND;TZID=America/Los_Angeles:20260711T140000
DTSTAMP:20260423T161345
CREATED:20230803T060152Z
LAST-MODIFIED:20260316T184223Z
UID:58597-1783764000-1783778400@www.schoolofself-reliance.com
SUMMARY:WILD FOOD COOKING and SURVIVAL discussion
DESCRIPTION:Saturday\, July 11\, 10 a.m. \nWILD FOOD COOKING  and  discussion. \n  \n \n  \nOn our walk\,  we will learn to recognize wild foods of the area\, and we will collect samples for our meal. Previously collected foods will be brought also for you to prepare into our meal. \n \nBesides our short walk\, you will then make a fire\, and prepare a salad\, soup\, a mixed dish\, pancakes\, and a few other dishes\, depending on what we find.   Then we can sit around the table and talk\, ask questions\, consider the future.  We’d love to have you join at this end-time of the year. \n \nBring your bowl!  And bring water for the walk. \nLocation sent out to registrants. \n$65 ($45 for students and seniors)
URL:https://www.schoolofself-reliance.com/event/wild-food-cooking-for-fall/
CATEGORIES:Bushcraft,Ethno-botany,Foraging,Survival Skills
END:VEVENT
BEGIN:VEVENT
DTSTART;TZID=America/Los_Angeles:20260905T100000
DTEND;TZID=America/Los_Angeles:20260905T150000
DTSTAMP:20260423T161345
CREATED:20211019T021620Z
LAST-MODIFIED:20260311T215108Z
UID:43219-1788602400-1788620400@www.schoolofself-reliance.com
SUMMARY:TRADITIONAL BOW MAKING WORKSHOP  -- an ancient and universal skills
DESCRIPTION:BOW-MAKING WORKSHOP \nA time to meet like-minded folks\, and to discuss the important issues…….. \n  \nSeptember 5\, 10 a.m. \nIn our class time\, we will cover all the basics of making your own archery bow.   You’ll learn how to select a piece of wood for making a bow. \nYou’ll learn the basics of creating a long bow (aka self bow).  You will learn how to determine the belly from the back\, how to slowly reduce\, how to tiller\, make nocks\, etc. \n \nYour goal will be to learn all the steps involved in making a functional bow.  If you rush because you simply want to take a bow home\, you might be disappointed.   We will supply the staves for you to use\, and we have extra tools. \n  \n \nIf you have tools\, such as sharp axe\, draw knife\, files\, rasps\, etc.\, bring them. We do bring tools if you don’t have any. \n \nLocation given upon registration.  This class requires a bit more prep\, and so please RSVP.  Limited to 14 participants. \n$75.  ($55 for seniors/ students).
URL:https://www.schoolofself-reliance.com/event/bow-making-workshop/
CATEGORIES:Survival Skills
ATTACH;FMTTYPE=image/jpeg:https://www.schoolofself-reliance.com/wp-content/uploads/2020/12/bow-06.jpg
END:VEVENT
BEGIN:VEVENT
DTSTART;TZID=America/Los_Angeles:20261017T100000
DTEND;TZID=America/Los_Angeles:20261017T140000
DTSTAMP:20260423T161345
CREATED:20230803T061949Z
LAST-MODIFIED:20260316T184803Z
UID:58604-1792231200-1792245600@www.schoolofself-reliance.com
SUMMARY:TRADITIONAL CONTAINER WORKSHOP:  MAKE A BURN-BOWL
DESCRIPTION:Saturday\, October 17\, 10 a.m. \nCONTAINER WORKSHOP:  LEARN TO MAKE AN EXPEDIENT BURN BOWL \nJulia Han shows a burn bowl made by Christopher from a burl\n \nAs part of our Container series\, we have taught how to make clay bowls (from local clays)\, how to make baskets\, how to process gourds\, how to make yucca and agave quivers\, how to make soap stone bowls (yes\, a slow process!)\, and this time\, how to make a burn-bowl.  A burn bowl is a piece of a log that we slowly burn out with coals\, and then scrape it out to create a useful bowl.  You will learn by doing. \nWe begin with a dry log\, and cut select pieces. Then we split them\, and you will slowly burn them out to create a functional bowl.  In fact\, there are many items that can be made by this process. \nWe will create coals in our fire\, which you will then carefully put onto your wood. You let it burn a bit\, and then you scrape.  You create a little hole\, and then you add another coal\, and repeat\, and repeat.  Bring a spoon for scraping.   Bring eye protection too. \nSometimes this goes quickly\, and sometimes not\, so bring your water and a snack. \nProbably Hahamongna\, but we will send location to registrants. \nLimited participation. \n$65 ($45 seniors/students)
URL:https://www.schoolofself-reliance.com/event/traditional-container-workshop-make-a-burn-bowl/
CATEGORIES:Bushcraft,Survival Skills
END:VEVENT
BEGIN:VEVENT
DTSTART;TZID=America/Los_Angeles:20261121T100000
DTEND;TZID=America/Los_Angeles:20261121T140000
DTSTAMP:20260423T161345
CREATED:20230803T063301Z
LAST-MODIFIED:20260414T012715Z
UID:58611-1795255200-1795269600@www.schoolofself-reliance.com
SUMMARY:THANKSGIVING SEASON -- WILD FOOD COOKING WORKSHOP -- INCLUDING ACORN PROCESSING
DESCRIPTION:Saturday\, November 21\, 10 a.m. \nWILD FOOD COOKING WORKSHOP \nJoin us as we do a short walk to forage wild foods that are in season\, and learn how to recognize what is available now. \nWe’ll then gather and prepare  the various wild foods\, along with some that we have brought\, including ACORNS.  You will work together to create a salad\, a soup\, an egg dish\, acorn pancakes\, tea\, and some sort of desert items.  We’ll have mushrooms if we find any. \nLearn how to eat the older nopales\nIt’s worth noting that when the first peoples of Hahamongna lived here\, they relied on the plant and animal life for their sustenance. You will just be getting a small taste of what that would have been like.  And it is worth noting that the majority of the wild foods that are available today are mostly European invasive plants\,  plants that the first peoples would not have had. \n \nBring your notebook and camera\, and bring your water and bowl.  This is not a spectator sport\, so be prepared to process greens\, make the fire\, and cook. \n$65 ($45 for seniors and students)
URL:https://www.schoolofself-reliance.com/event/thanksgiving-season-wild-food-cooking-workshop/
CATEGORIES:Bushcraft,Ethno-botany,Foraging,Survival Skills
END:VEVENT
BEGIN:VEVENT
DTSTART;TZID=America/Los_Angeles:20261212T100000
DTEND;TZID=America/Los_Angeles:20261212T133000
DTSTAMP:20260423T161345
CREATED:20191002T131923Z
LAST-MODIFIED:20260414T013034Z
UID:10482-1797069600-1797082200@www.schoolofself-reliance.com
SUMMARY:WINTER GET-TOGETHER\, 10 a.m. FREE
DESCRIPTION:DECEMBER 12\, 10 A.M. \nWINTER GET-TOGETHER/ TRADE-BLANKET\, FOR FRIENDS AND FAMILY OF SCHOOL OF SELF-RELIANCE. \nNO FEE\, NO NEED FOR A “TICKET”  — JUST SHOW UP!   (DIRECTIONS below) \nOur annual gathering for Friends and Family of the School of Self-Reliance. \n \n  \nWe will have a “trade blanket” where several people will be having books\, gear\, knives\, etc. for trade or sale. \nWe will also discuss what makes a good “survival kit” — so bring your kit if you want it “analyzed.” \n  \nWe will also have most of Christopher’s books available\, as well as GIFT CERTIFICATES. \nBRING A FOLDING CHAIR! \n  \nWe’ll meet and share some survival stories\, including what should always be in your “survival pack” in order to be prepared for the unexpected. \n  \n  \n \nDo you want to bring products for sale or trade?  Please let Christopher know. \n \n  \nIt’s a good time to get to know each other better\, and learn more skills in a relaxed setting. Location 2\, Hahamongna Watershed Park.   DIRECTIONS:  The park is located on Pasadena’s west side\, bordering La Canada.  Check your Google Maps to find it\, and you’ll likely be exiting the 210 freeway.   The park entrance is Foothill and Oak Grove Drive.  Enter the park\, drive in\, stay on the upper road until you see the outdoor bathroom\, and park. We’ll be by  the tables there. \nThere is no fee\, but let us know you’re coming!
URL:https://www.schoolofself-reliance.com/event/winter-get-together-10-am-free/
CATEGORIES:plants for making fire,Survival Skills,Urban skills
ATTACH;FMTTYPE=image/jpeg:https://www.schoolofself-reliance.com/wp-content/uploads/2019/12/IMG_6987-rotated.jpg
END:VEVENT
END:VCALENDAR