BEGIN:VCALENDAR
VERSION:2.0
PRODID:-//School of Self-Reliance - ECPv6.15.13//NONSGML v1.0//EN
CALSCALE:GREGORIAN
METHOD:PUBLISH
X-ORIGINAL-URL:https://www.schoolofself-reliance.com
X-WR-CALDESC:Events for School of Self-Reliance
REFRESH-INTERVAL;VALUE=DURATION:PT1H
X-Robots-Tag:noindex
X-PUBLISHED-TTL:PT1H
BEGIN:VTIMEZONE
TZID:America/Los_Angeles
BEGIN:DAYLIGHT
TZOFFSETFROM:-0800
TZOFFSETTO:-0700
TZNAME:PDT
DTSTART:20250309T100000
END:DAYLIGHT
BEGIN:STANDARD
TZOFFSETFROM:-0700
TZOFFSETTO:-0800
TZNAME:PST
DTSTART:20251102T090000
END:STANDARD
BEGIN:DAYLIGHT
TZOFFSETFROM:-0800
TZOFFSETTO:-0700
TZNAME:PDT
DTSTART:20260308T100000
END:DAYLIGHT
BEGIN:STANDARD
TZOFFSETFROM:-0700
TZOFFSETTO:-0800
TZNAME:PST
DTSTART:20261101T090000
END:STANDARD
BEGIN:DAYLIGHT
TZOFFSETFROM:-0800
TZOFFSETTO:-0700
TZNAME:PDT
DTSTART:20270314T100000
END:DAYLIGHT
BEGIN:STANDARD
TZOFFSETFROM:-0700
TZOFFSETTO:-0800
TZNAME:PST
DTSTART:20271107T090000
END:STANDARD
END:VTIMEZONE
BEGIN:VTIMEZONE
TZID:UTC
BEGIN:STANDARD
TZOFFSETFROM:+0000
TZOFFSETTO:+0000
TZNAME:UTC
DTSTART:20250101T000000
END:STANDARD
END:VTIMEZONE
BEGIN:VEVENT
DTSTART;TZID=America/Los_Angeles:20260604T120000
DTEND;TZID=America/Los_Angeles:20260604T140000
DTSTAMP:20260423T145001
CREATED:20191221T074157Z
LAST-MODIFIED:20260414T005847Z
UID:12085-1780574400-1780581600@www.schoolofself-reliance.com
SUMMARY:LUNCHTIME EXPLORATORY NATURE WALK
DESCRIPTION:  \nThursday\, June 4\, noon \nEXPLORATORY NATURE WALK \nWe’ll explore the perimeter of  this section of the Arroyo Seco and find some of the in-season wild edibles\, and medicinal plants\, and we’ll view the overall basin. \nAlong this footpath\, we will find foods\, medicines\, and several plants used for weaving and basketry.  We’ll learn about the woods that were used for shelter\, and fire\, and discuss how some of the rocks were used in the past.  We’ll also see many of the “invasive” non-native edibles.  \nCarry a  water bottle. \nRSVP for exact directions to location. \n 
URL:https://www.schoolofself-reliance.com/event/lunchtime-exploratory-nature-walk/
CATEGORIES:Ethno-botany,Foraging,medicinal plants,mulefat,plants for making fire,Survival Skills
END:VEVENT
BEGIN:VEVENT
DTSTART;TZID=UTC:20260613T100000
DTEND;TZID=UTC:20260613T140000
DTSTAMP:20260423T145001
CREATED:20190703T144509Z
LAST-MODIFIED:20260414T012107Z
UID:9978-1781344800-1781359200@www.schoolofself-reliance.com
SUMMARY:BASIC NATURAL NAVIGATION\, AND ORIENTATION
DESCRIPTION:NATURAL NAVIGATION AND ORIENTATION \nSaturday\, June 13\, 10 a.m. \n \n \n \n \n \n  \n  \nWhat are some of the tried-and-proven methods for navigation that people have used for centuries? \nWe’ll begin with observations of the terrain — shadows\, looking at trees\, moisture\, feeling rocks\, insect signs\, etc. \nWe’ll learn how to use the stars\, the sun\, the moon\, for navigation\, including how to read the natural terrain.  These are skills that our grandparents took for granted\, but as we rely more and more on technologies\, we have forgotten these very basic skills. \nYes\, you’ll also learn the basics of how to read a map\, how to use a compass\, how to align the map with a compass\, and ways to navigate the terrain with these tools. \nSince this is a two-hour lunchtime class\, we will cover the most basic skills. \nWe’ll do exercises to test your new skills. Bring a notebook. \n  \nLocation sent with registration \n$65 (Students and seniors\, $45) \nThis class can be applied towards Bushcraft Certificate
URL:https://www.schoolofself-reliance.com/event/basic-natural-navigation-35/
CATEGORIES:Bushcraft,Survival Skills,Urban skills
ATTACH;FMTTYPE=image/jpeg:https://www.schoolofself-reliance.com/wp-content/uploads/2019/10/Navi-09.jpg
END:VEVENT
END:VCALENDAR