BEGIN:VCALENDAR
VERSION:2.0
PRODID:-//School of Self-Reliance - ECPv6.15.13//NONSGML v1.0//EN
CALSCALE:GREGORIAN
METHOD:PUBLISH
X-ORIGINAL-URL:https://www.schoolofself-reliance.com
X-WR-CALDESC:Events for School of Self-Reliance
REFRESH-INTERVAL;VALUE=DURATION:PT1H
X-Robots-Tag:noindex
X-PUBLISHED-TTL:PT1H
BEGIN:VTIMEZONE
TZID:America/Los_Angeles
BEGIN:DAYLIGHT
TZOFFSETFROM:-0800
TZOFFSETTO:-0700
TZNAME:PDT
DTSTART:20240310T100000
END:DAYLIGHT
BEGIN:STANDARD
TZOFFSETFROM:-0700
TZOFFSETTO:-0800
TZNAME:PST
DTSTART:20241103T090000
END:STANDARD
BEGIN:DAYLIGHT
TZOFFSETFROM:-0800
TZOFFSETTO:-0700
TZNAME:PDT
DTSTART:20250309T100000
END:DAYLIGHT
BEGIN:STANDARD
TZOFFSETFROM:-0700
TZOFFSETTO:-0800
TZNAME:PST
DTSTART:20251102T090000
END:STANDARD
BEGIN:DAYLIGHT
TZOFFSETFROM:-0800
TZOFFSETTO:-0700
TZNAME:PDT
DTSTART:20260308T100000
END:DAYLIGHT
BEGIN:STANDARD
TZOFFSETFROM:-0700
TZOFFSETTO:-0800
TZNAME:PST
DTSTART:20261101T090000
END:STANDARD
END:VTIMEZONE
BEGIN:VEVENT
DTSTART;TZID=America/Los_Angeles:20251003T183000
DTEND;TZID=America/Los_Angeles:20251003T200000
DTSTAMP:20260424T000056
CREATED:20250922T211928Z
LAST-MODIFIED:20250922T211928Z
UID:60953-1759516200-1759521600@www.schoolofself-reliance.com
SUMMARY:FREE SURVIVAL SKILLS LECTURE - BURBANK CENTRAL LIBRARY
DESCRIPTION:Christopher Nyerges will speak about outdoor survival skills at the Burbank Central Library\, Friday\, October 3\, beginning at 6:30 p.m.   The Library is located at 110 N. Glenoaks in Burbank. \nYou will learn about plants\, water\, fire\, tools\, all with an application to urban survival scenario and the need to possibly evacuate. \nA short video will be shared. \nBooks by Nyerges will be available for purchase. \nSurvival School! – Burbank Public Library \n 
URL:https://www.schoolofself-reliance.com/event/free-survival-skills-lecture-burbank-central-library/
CATEGORIES:Survival Skills,Urban skills
END:VEVENT
BEGIN:VEVENT
DTSTART;TZID=America/Los_Angeles:20251023T120000
DTEND;TZID=America/Los_Angeles:20251023T140000
DTSTAMP:20260424T000056
CREATED:20191010T103805Z
LAST-MODIFIED:20251008T205502Z
UID:10696-1761220800-1761228000@www.schoolofself-reliance.com
SUMMARY:MID-DAY NATURAL NAVIGATION CLASS
DESCRIPTION:October 23\, noon \nGetting around accurately is a valuable survival skill!  Sometimes you have a compass and map\, and sometimes you don’t. \nIn this two-hour class\, you’ll learn how to construct a sun compass\, and how you can use that to tell direction and time.  This sun compass is nearly as accurate as your magnetized compass\, and the “clock” is more accurately telling you local solar time — good enough for general purposes. \n \nYou’ll also learn some natural methods of telling direction\, which are ages-old observations.  You’ll learn which are worth remembering\, and which are “old husband’s tales.” \n \nWe’ll also address how to identify constellations for telling directions\, and how to navigate with only a compass.  So bring your compass. \n \n \nWhat we cover in our short time will depend upon how much time everyone needs to grasp the concepts.  Location 2\, Hahamongna Watershed Park.
URL:https://www.schoolofself-reliance.com/event/lunchtime-natural-navigation-25-2/
CATEGORIES:Bushcraft,Survival Skills,Urban skills
END:VEVENT
END:VCALENDAR