BEGIN:VCALENDAR
VERSION:2.0
PRODID:-//School of Self-Reliance - ECPv6.15.13//NONSGML v1.0//EN
CALSCALE:GREGORIAN
METHOD:PUBLISH
X-ORIGINAL-URL:https://www.schoolofself-reliance.com
X-WR-CALDESC:Events for School of Self-Reliance
REFRESH-INTERVAL;VALUE=DURATION:PT1H
X-Robots-Tag:noindex
X-PUBLISHED-TTL:PT1H
BEGIN:VTIMEZONE
TZID:America/Los_Angeles
BEGIN:DAYLIGHT
TZOFFSETFROM:-0800
TZOFFSETTO:-0700
TZNAME:PDT
DTSTART:20210314T100000
END:DAYLIGHT
BEGIN:STANDARD
TZOFFSETFROM:-0700
TZOFFSETTO:-0800
TZNAME:PST
DTSTART:20211107T090000
END:STANDARD
BEGIN:DAYLIGHT
TZOFFSETFROM:-0800
TZOFFSETTO:-0700
TZNAME:PDT
DTSTART:20220313T100000
END:DAYLIGHT
BEGIN:STANDARD
TZOFFSETFROM:-0700
TZOFFSETTO:-0800
TZNAME:PST
DTSTART:20221106T090000
END:STANDARD
BEGIN:DAYLIGHT
TZOFFSETFROM:-0800
TZOFFSETTO:-0700
TZNAME:PDT
DTSTART:20230312T100000
END:DAYLIGHT
BEGIN:STANDARD
TZOFFSETFROM:-0700
TZOFFSETTO:-0800
TZNAME:PST
DTSTART:20231105T090000
END:STANDARD
BEGIN:DAYLIGHT
TZOFFSETFROM:-0800
TZOFFSETTO:-0700
TZNAME:PDT
DTSTART:20240310T100000
END:DAYLIGHT
BEGIN:STANDARD
TZOFFSETFROM:-0700
TZOFFSETTO:-0800
TZNAME:PST
DTSTART:20241103T090000
END:STANDARD
BEGIN:DAYLIGHT
TZOFFSETFROM:-0800
TZOFFSETTO:-0700
TZNAME:PDT
DTSTART:20250309T100000
END:DAYLIGHT
BEGIN:STANDARD
TZOFFSETFROM:-0700
TZOFFSETTO:-0800
TZNAME:PST
DTSTART:20251102T090000
END:STANDARD
BEGIN:DAYLIGHT
TZOFFSETFROM:-0800
TZOFFSETTO:-0700
TZNAME:PDT
DTSTART:20260308T100000
END:DAYLIGHT
BEGIN:STANDARD
TZOFFSETFROM:-0700
TZOFFSETTO:-0800
TZNAME:PST
DTSTART:20261101T090000
END:STANDARD
BEGIN:DAYLIGHT
TZOFFSETFROM:-0800
TZOFFSETTO:-0700
TZNAME:PDT
DTSTART:20270314T100000
END:DAYLIGHT
BEGIN:STANDARD
TZOFFSETFROM:-0700
TZOFFSETTO:-0800
TZNAME:PST
DTSTART:20271107T090000
END:STANDARD
END:VTIMEZONE
BEGIN:VTIMEZONE
TZID:UTC
BEGIN:STANDARD
TZOFFSETFROM:+0000
TZOFFSETTO:+0000
TZNAME:UTC
DTSTART:20210101T000000
END:STANDARD
END:VTIMEZONE
BEGIN:VEVENT
DTSTART;TZID=America/Los_Angeles:20260402T120000
DTEND;TZID=America/Los_Angeles:20260402T140000
DTSTAMP:20260423T145350
CREATED:20210727T051659Z
LAST-MODIFIED:20260316T182720Z
UID:39138-1775131200-1775138400@www.schoolofself-reliance.com
SUMMARY:WATER SURVIVAL: Learn the Essential Water Skills for wilderness or city
DESCRIPTION:LUNCHTIME WATER SKILLS \nApril 2\, Noon\n \nThis will be an overview of WATER in the City and Wilderness.  HOW to find water\, how to purify it\, how to store it. \nLet’s learn and apply the skills that allow you to survive in the desert (and other) environments.  Water\, of course\, is paramount. You’ll learn how to obtain water when none seems present\, methods such as the well\, solar still\, transpiration bag\, plants\, etc. \n \n  \n \n  \nWater is the most critical element of survival\, and so you will learn the necessity of storing water\, and how to store water. \nHow much water should you store?  What sort of containers should you use? \nHow about rain water?  Are any special precautions needed? \nHow about water purification?  Learn different ways to purify water\, under different circumstances.  Learn how to make a make-shift water filter in an emergency. \nAn essential survival skill\, in the wilderness or the city. \nDepending on our time\, we might learn to identify a few wild plants too. \nYou can apply this class towards our Certification program. \nLocation given after registration.   Class fee $45.  (Seniors/students $30) \n  \nBooks and tools available for purchase at all classes…
URL:https://www.schoolofself-reliance.com/event/survival-skills-learn-the-skills-of-desert-survival/
CATEGORIES:Bushcraft,Ethno-botany,medicinal plants,mulefat,shelter building,Survival Skills
END:VEVENT
BEGIN:VEVENT
DTSTART;TZID=America/Los_Angeles:20250911T120000
DTEND;TZID=America/Los_Angeles:20250911T140000
DTSTAMP:20260423T145350
CREATED:20200101T002319Z
LAST-MODIFIED:20250602T203556Z
UID:12534-1757592000-1757599200@www.schoolofself-reliance.com
SUMMARY:LUNCHTIME SHELTER WORKSHOP
DESCRIPTION:Thursday\, September 11\, Noon\, LUNCHTIME SHELTER WORKSHOP \nWe need shelter not just from the cold\, but from rain\, wind\, even the sun.  The location and circumstances dictate what sort of shelter we build. And in an emergency\, we have to be very creative about how to make a shelter\, or to find something to adapt as a shelter. \nYou will learn about setting up a tent\, and some simple shelter ideas from tarps. \nLearn the most basic of wilderness shelters\,  and work on at least two primitive shelters. Bring gloves! \n  \nYou will also learn about some of the useful plants of the area. \n  \nMeet at Location 2\, Hahamongna Watershed Park.
URL:https://www.schoolofself-reliance.com/event/lunchtime-shelter-workshop/
CATEGORIES:Bushcraft,shelter building
ATTACH;FMTTYPE=image/jpeg:https://www.schoolofself-reliance.com/wp-content/uploads/2023/08/ASG-1909-SYLMAR-19.jpg
END:VEVENT
BEGIN:VEVENT
DTSTART;TZID=America/Los_Angeles:20250412T100000
DTEND;TZID=America/Los_Angeles:20250412T150000
DTSTAMP:20260423T145350
CREATED:20200113T193614Z
LAST-MODIFIED:20250310T224244Z
UID:13105-1744452000-1744470000@www.schoolofself-reliance.com
SUMMARY:SURVIVAL SKILLS INTENSIVE
DESCRIPTION:Saturday\, April 12\, 10 a.m. SURVIVAL SKILLS INTENSIVE\nIn this program\, we will cover how to make fire with primitive methods without matches\, as well as some modern methods. \nWe’ll learn  how to build an emergency shelter\, how to create soap from plants\, and how to make cordage.   All hands-on! \nWe will learn  to find water and ways to purify water\, identifying and using wild foods\, and more. \nTotal walking about 1  and  a half mile. \n  \nDress comfortably and bring a notebook. \nPricing: $65.  (Seniors/students $45) \n  \nA great day to get into the mountains with like-minded people. \nThis can be used as part of our “Weekend Warrior” Certification series. \nBring a bowl\, knife\, and water. Dress comfortably.  Bring snacks if you need some.  Bring your special tools if you want to share as part of a show and tell. \n \nBooks and products are available at all classes. \n \n 
URL:https://www.schoolofself-reliance.com/event/survival-skills-intensive/
CATEGORIES:Ethno-botany,medicinal plants,plants for making fire,shelter building,Survival Skills
END:VEVENT
BEGIN:VEVENT
DTSTART;TZID=America/Los_Angeles:20250307T190000
DTEND;TZID=America/Los_Angeles:20250307T210000
DTSTAMP:20260423T145350
CREATED:20200101T002630Z
LAST-MODIFIED:20241227T070813Z
UID:12536-1741374000-1741381200@www.schoolofself-reliance.com
SUMMARY:SURVIVAL SKILLS Class\, ON-LINE
DESCRIPTION:Friday\, March 7\,    7 p.m. to 9 p.m.\,  SURVIVAL SKILLS Class\, Five Weeks\, $75 \nOne of the best deals in town! \non-line class \nFIVE CONSECUTIVE FRIDAYS \n  \nSponsored by Pasadena City College.  Call (626) 585-7608 for information and registration. Cost to college is $75. \nThis course consists of five two-hour classes\, on five consecutive Friday nights. \nThe Class topics include the following: \nWild Plants for food\, medicine\, and other uses\, focusing on plants that are currently in season. \nEverything we need to know about Water: How to find it\, how to purify it\,  how to store water — and more. \nHow to make fire with both primitive and modern methods. You’ll learn the 4 Principles by which fire is made. \nHow to make and use a shelter when you get stuck in the outdoors.  Simple lean-tos to more complicated shelters will be shown. \nTools and supplies will be discussed — you know\, all the stuff you buy for your pack. \nOther topics include natural navigation\,  finding fibre from natural sources and making cordage\, dealing with no electricity or no toilet\,  and more. \nThe conversation and questions from students makes this lively and engaging.  Taught by Christopher Nyerges.   \n 
URL:https://www.schoolofself-reliance.com/event/wilderness-survival-skills-class-5-weeks/
CATEGORIES:Bushcraft,Foraging,medicinal plants,plants for making fire,shelter building,Survival Skills,Urban skills
ATTACH;FMTTYPE=image/jpeg:https://www.schoolofself-reliance.com/wp-content/uploads/2024/03/IMG_6202-scaled.jpg
END:VEVENT
BEGIN:VEVENT
DTSTART;TZID=America/Los_Angeles:20220813T100000
DTEND;TZID=America/Los_Angeles:20220813T140000
DTSTAMP:20260423T145350
CREATED:20220620T225435Z
LAST-MODIFIED:20220810T174123Z
UID:49592-1660384800-1660399200@www.schoolofself-reliance.com
SUMMARY:KNOTS\, TARPS\, and SHELTERS
DESCRIPTION:Saturday\, August 13\, 10 a.m. \nLearning about emergency shelters\n\n\n\n\n\n\nEmergency “Man Made” shelters: KNOTS\, TARPS\, and SHELTERS.\n\n\n\n\n\n\nThis is an excellent class to learn and practice basic KNOTS\, and TARPS.We will begin with a review of the priorities of survival and how to address each. From there\, we will focus on part of the thermoregulation priority…shelter.\n\nYou will learn various tarp set-up\, the tarp sizes\, various tarp materials and weights\, the various knots to secure your tarp as a shelter\, stake management\, and so much more!The ability to practice the knots is itself an essential and basic skill. When combined with with tarps\, you will be learning some ways to turn that tarp into an emergency shelter. Additionally\, you will learn what is best for colder situations\, for hot situations\, and even the rain. What is the best direction to face your tarp\, and all the details such as tarp knots and stake management\, will all be included.\n\nStudents will set up various tarp configurations and different types of tarps\, from ultralight on up. We will explore the use of light-weight painter tarps for emergency shelters as well asmilitary poncho’s for emergency shelters. You will learn what to do if your tarp has no grommets. Then on to tarps ranging in size from 5×7 to 10×10. We will even show you how to make a tent out of a tarp.\n\nTaught by Wilderness Skills instructor Keith Farrar\, who teaches in a very lively and hands-on manner.\n\n\n\n\n\n\n\n\n\n\n\n\n\n\n\n\n\n\nLocation sent out after registration.\n\nBring snacks if needed.  There will be a very short snack break.  As a bonus\, you will see a few wild foods during this time.\n\n$65 regular;  senior/students $45
URL:https://www.schoolofself-reliance.com/event/knots-tarps-and-shelters/
CATEGORIES:Bushcraft,shelter building,Survival Skills
END:VEVENT
BEGIN:VEVENT
DTSTART;TZID=UTC:20220811T120000
DTEND;TZID=UTC:20220811T140000
DTSTAMP:20260423T145350
CREATED:20190703T145326Z
LAST-MODIFIED:20220614T050553Z
UID:9990-1660219200-1660226400@www.schoolofself-reliance.com
SUMMARY:SHELTER WORKSHOP -- mid-day
DESCRIPTION:SHELTER.  Thursday\, August 11\, noon. \nToday\, we will focus upon  wilderness shelters. You’ll get to set up a few modern shelters\, but mostly we’ll work on a few of the more traditional sorts of shelters that you’d construct strictly from the wild. These include the body hollow\, the lean-to\, and the half-dome shelter. \n \nYou’ll also discover various ways to stay warm on your bed in such shelters.  Class includes a short walkabout\, hands-on\, some plant identification and gathering\, and fire-making. \n \nPricing: $45 per class; $30 for senior and students. \nLocation:  We’ll send you the location upon registration.
URL:https://www.schoolofself-reliance.com/event/weekend-warrior-workshop-series-4/
CATEGORIES:shelter building,Survival Skills
END:VEVENT
END:VCALENDAR