BEGIN:VCALENDAR
VERSION:2.0
PRODID:-//School of Self-Reliance - ECPv6.15.13//NONSGML v1.0//EN
CALSCALE:GREGORIAN
METHOD:PUBLISH
X-WR-CALNAME:School of Self-Reliance
X-ORIGINAL-URL:https://www.schoolofself-reliance.com
X-WR-CALDESC:Events for School of Self-Reliance
REFRESH-INTERVAL;VALUE=DURATION:PT1H
X-Robots-Tag:noindex
X-PUBLISHED-TTL:PT1H
BEGIN:VTIMEZONE
TZID:America/Los_Angeles
BEGIN:DAYLIGHT
TZOFFSETFROM:-0800
TZOFFSETTO:-0700
TZNAME:PDT
DTSTART:20250309T100000
END:DAYLIGHT
BEGIN:STANDARD
TZOFFSETFROM:-0700
TZOFFSETTO:-0800
TZNAME:PST
DTSTART:20251102T090000
END:STANDARD
BEGIN:DAYLIGHT
TZOFFSETFROM:-0800
TZOFFSETTO:-0700
TZNAME:PDT
DTSTART:20260308T100000
END:DAYLIGHT
BEGIN:STANDARD
TZOFFSETFROM:-0700
TZOFFSETTO:-0800
TZNAME:PST
DTSTART:20261101T090000
END:STANDARD
BEGIN:DAYLIGHT
TZOFFSETFROM:-0800
TZOFFSETTO:-0700
TZNAME:PDT
DTSTART:20270314T100000
END:DAYLIGHT
BEGIN:STANDARD
TZOFFSETFROM:-0700
TZOFFSETTO:-0800
TZNAME:PST
DTSTART:20271107T090000
END:STANDARD
END:VTIMEZONE
BEGIN:VEVENT
DTSTART;TZID=America/Los_Angeles:20260226T120000
DTEND;TZID=America/Los_Angeles:20260226T140000
DTSTAMP:20260423T162352
CREATED:20200101T021654Z
LAST-MODIFIED:20260209T021010Z
UID:12561-1772107200-1772114400@www.schoolofself-reliance.com
SUMMARY:MIDDAY FIRE WORKSHOP  -- hands-on
DESCRIPTION:Thursday\, February 26\, Noon. \nLUNCHTIME FIRE WORKSHOP \n  \n \nSURVIVAL\, BUSHCRAFT\, SELF-RELIANCE! \nPrimitive skills are very popular\, and the ability to make fire without matches is at the top of the list. \nWe will practice a few of the primitive methods of fire-starting methods\, and you will learn some of the secrets that come from years of experience. \nYou will get to practice the bow drill\, the hand drill\, flint and steel\, and the fire piston. \n  \nWe will also go for a short walk (if time) so you can see the types of woods that are best for making fire\, and the tinders that are best for getting your fire to light. \nAnd enjoyable gathering.  Bring a bowl and water. \nAnd yes\, you will learn about a few wild plants at this class as well. \n  \nLocation sent when you register — most likely Hahamongna. \n 
URL:https://www.schoolofself-reliance.com/event/lunchtime-plant-id-walk-with-soup-and-fire-making/
CATEGORIES:Bushcraft,Ethno-botany,plants for making fire,Survival Skills
END:VEVENT
END:VCALENDAR