BEGIN:VCALENDAR
VERSION:2.0
PRODID:-//School of Self-Reliance - ECPv6.15.13//NONSGML v1.0//EN
CALSCALE:GREGORIAN
METHOD:PUBLISH
X-ORIGINAL-URL:https://www.schoolofself-reliance.com
X-WR-CALDESC:Events for School of Self-Reliance
REFRESH-INTERVAL;VALUE=DURATION:PT1H
X-Robots-Tag:noindex
X-PUBLISHED-TTL:PT1H
BEGIN:VTIMEZONE
TZID:America/Los_Angeles
BEGIN:DAYLIGHT
TZOFFSETFROM:-0800
TZOFFSETTO:-0700
TZNAME:PDT
DTSTART:20230312T100000
END:DAYLIGHT
BEGIN:STANDARD
TZOFFSETFROM:-0700
TZOFFSETTO:-0800
TZNAME:PST
DTSTART:20231105T090000
END:STANDARD
BEGIN:DAYLIGHT
TZOFFSETFROM:-0800
TZOFFSETTO:-0700
TZNAME:PDT
DTSTART:20240310T100000
END:DAYLIGHT
BEGIN:STANDARD
TZOFFSETFROM:-0700
TZOFFSETTO:-0800
TZNAME:PST
DTSTART:20241103T090000
END:STANDARD
BEGIN:DAYLIGHT
TZOFFSETFROM:-0800
TZOFFSETTO:-0700
TZNAME:PDT
DTSTART:20250309T100000
END:DAYLIGHT
BEGIN:STANDARD
TZOFFSETFROM:-0700
TZOFFSETTO:-0800
TZNAME:PST
DTSTART:20251102T090000
END:STANDARD
BEGIN:DAYLIGHT
TZOFFSETFROM:-0800
TZOFFSETTO:-0700
TZNAME:PDT
DTSTART:20260308T100000
END:DAYLIGHT
BEGIN:STANDARD
TZOFFSETFROM:-0700
TZOFFSETTO:-0800
TZNAME:PST
DTSTART:20261101T090000
END:STANDARD
BEGIN:DAYLIGHT
TZOFFSETFROM:-0800
TZOFFSETTO:-0700
TZNAME:PDT
DTSTART:20270314T100000
END:DAYLIGHT
BEGIN:STANDARD
TZOFFSETFROM:-0700
TZOFFSETTO:-0800
TZNAME:PST
DTSTART:20271107T090000
END:STANDARD
END:VTIMEZONE
BEGIN:VTIMEZONE
TZID:UTC
BEGIN:STANDARD
TZOFFSETFROM:+0000
TZOFFSETTO:+0000
TZNAME:UTC
DTSTART:20230101T000000
END:STANDARD
END:VTIMEZONE
BEGIN:VEVENT
DTSTART;TZID=America/Los_Angeles:20260313T190000
DTEND;TZID=America/Los_Angeles:20260313T210000
DTSTAMP:20260423T174238
CREATED:20230620T183401Z
LAST-MODIFIED:20260207T023029Z
UID:58448-1773428400-1773435600@www.schoolofself-reliance.com
SUMMARY:THE FUNGUS AMONG US!  A Mycological Adventure
DESCRIPTION:A MYCOLOGICAL ADVENTURE – \nFRIDAY\, MARCH 13\, 7P\, ON-LINE\n \nJoin us for a look at the fascinating world of mycology\, with pointers that both beginner and experts will find useful. \nWhat is a mushroom\, after all? \nLearn how mycologists have classified the many types\, and learn some tips for cultivation and cooking. \n \nRemember\, mycology is a Science and  you could spend your whole life studying the various intricacies of this field. \n \nIn this session\, you will get an overview of the field\, and you will see some of the very most common mushrooms of the West.  (Most\, actually\, are pretty cosmopolitan). \n  \nON-LINE.  Link is sent a week before the class \n$45
URL:https://www.schoolofself-reliance.com/event/the-fungus-among-us-a-mycological-adventure/
CATEGORIES:Foraging,mycology
END:VEVENT
BEGIN:VEVENT
DTSTART;TZID=America/Los_Angeles:20251230T110000
DTEND;TZID=America/Los_Angeles:20251230T140000
DTSTAMP:20260423T174238
CREATED:20200101T001929Z
LAST-MODIFIED:20251229T192249Z
UID:12531-1767092400-1767103200@www.schoolofself-reliance.com
SUMMARY:WATERSHED EXPLORATION
DESCRIPTION:Tuesday\, December 30\, at 11 a.m. \nIn this approx. 3 hour class\, we’ll explore along the watershed of  the Upper Arroyo in the Angeles National Forest. We’ll learn about food and medicine from plants\,   make soap from plants\, and weave rope and baskets from natural materials.  We will walk along the stream\, and see a lot of plants.   Be sure to bring your canteen\, bowl for eating\, and snacks you might want. \nThere are some unique features at this location that makes it quite memorable.  Plus\, it might be very quiet at this time of the year. \nNOTE:  We had planned to do this walk at Switzers Camp but we cannot do so because of road closures as a result of the rain.  We will do the class at a lower elevation.  Be sure to RSVP.
URL:https://www.schoolofself-reliance.com/event/switzers-exploration/
CATEGORIES:Bushcraft,Foraging,medicinal plants,mulefat,mycology,plants for making fire
ATTACH;FMTTYPE=image/jpeg:https://www.schoolofself-reliance.com/wp-content/uploads/2019/07/ch01-06BirdHoles.jpg
END:VEVENT
BEGIN:VEVENT
DTSTART;TZID=UTC:20240807T190000
DTEND;TZID=UTC:20240807T210000
DTSTAMP:20260423T174238
CREATED:20190703T135709Z
LAST-MODIFIED:20240719T014148Z
UID:9957-1723057200-1723064400@www.schoolofself-reliance.com
SUMMARY:MYCOLOGY: the fungus among us -- ON-LINE
DESCRIPTION:  \n \nAugust 7 at 7 p.m.\, and August 14 at 7 p.m. \nThese are two on-line classes delving into the world of mushrooms.  We will explore some of the most common mushrooms found in the west\, dividing them between the gilled fungi and non-gilled fungi.  Lots of images to see\, and this is good for beginners and more advanced mycology students. \n  \nSponsored by Pasadena City College.  Call (626) 585-7608 for information and registration. Cost to college is $65. \nTaught by Christopher Nyerges.
URL:https://www.schoolofself-reliance.com/event/five-week-survival-skills-class-urban-focus/
CATEGORIES:mycology
END:VEVENT
BEGIN:VEVENT
DTSTART;TZID=America/Los_Angeles:20240215T120000
DTEND;TZID=America/Los_Angeles:20240215T140000
DTSTAMP:20260423T174238
CREATED:20210519T193024Z
LAST-MODIFIED:20240208T065744Z
UID:35953-1707998400-1708005600@www.schoolofself-reliance.com
SUMMARY:WILD PLANTS & MUSHROOMS:  Ethno-botanical Walk
DESCRIPTION:Thursday\, February 15\, Noon. \nETHNO-BOTANICAL WALK  focusing on Identifying wild EDIBLE and medicinal plants\, and mushrooms \nwe may find. \n  \n  \nWe will do a short walkabout. We will also make a salad\, so bring your bowl. \nWe’ll see edible\, medicinal\, and other useful plants found in the chaparral and riparian environment.  Both natives and non-natives will be seen.  This will be leisurely and you will hopefully get a chance to see and identify various mushrooms as well.  The weather has been conducive to mycology! \n  \n \nWear comfortable footwear. \nThis class can be credited towards the Ethno-botany certificate. \n$45 (Seniors and students $30).   Hahamongna area.  Location given upon registration. \n  \nWe’ll meet in the parking lot of the Casting Pools/ Archery Range in the Arroyo Seco\, just north of California…
URL:https://www.schoolofself-reliance.com/event/fire-and-medicinal-plants/
CATEGORIES:Ethno-botany,medicinal plants,mulefat,mycology,plants for making fire,uses of willow
END:VEVENT
END:VCALENDAR