BEGIN:VCALENDAR
VERSION:2.0
PRODID:-//School of Self-Reliance - ECPv6.15.13//NONSGML v1.0//EN
CALSCALE:GREGORIAN
METHOD:PUBLISH
X-WR-CALNAME:School of Self-Reliance
X-ORIGINAL-URL:https://www.schoolofself-reliance.com
X-WR-CALDESC:Events for School of Self-Reliance
REFRESH-INTERVAL;VALUE=DURATION:PT1H
X-Robots-Tag:noindex
X-PUBLISHED-TTL:PT1H
BEGIN:VTIMEZONE
TZID:America/Los_Angeles
BEGIN:DAYLIGHT
TZOFFSETFROM:-0800
TZOFFSETTO:-0700
TZNAME:PDT
DTSTART:20250309T100000
END:DAYLIGHT
BEGIN:STANDARD
TZOFFSETFROM:-0700
TZOFFSETTO:-0800
TZNAME:PST
DTSTART:20251102T090000
END:STANDARD
BEGIN:DAYLIGHT
TZOFFSETFROM:-0800
TZOFFSETTO:-0700
TZNAME:PDT
DTSTART:20260308T100000
END:DAYLIGHT
BEGIN:STANDARD
TZOFFSETFROM:-0700
TZOFFSETTO:-0800
TZNAME:PST
DTSTART:20261101T090000
END:STANDARD
BEGIN:DAYLIGHT
TZOFFSETFROM:-0800
TZOFFSETTO:-0700
TZNAME:PDT
DTSTART:20270314T100000
END:DAYLIGHT
BEGIN:STANDARD
TZOFFSETFROM:-0700
TZOFFSETTO:-0800
TZNAME:PST
DTSTART:20271107T090000
END:STANDARD
END:VTIMEZONE
BEGIN:VEVENT
DTSTART;TZID=America/Los_Angeles:20260423T120000
DTEND;TZID=America/Los_Angeles:20260423T140000
DTSTAMP:20260423T122230
CREATED:20230418T004134Z
LAST-MODIFIED:20260422T050159Z
UID:57198-1776945600-1776952800@www.schoolofself-reliance.com
SUMMARY:LUNCHTIME EARTHWEEK  PLANT WALKABOUT
DESCRIPTION:Thursday\, Noon\, April 23 \nCome celebrate Earth Week with us by taking a walk in the canyon\, learning about the bounty of nature’s flora. \n \nWe’ll see wild herbs\, native plants\, and more.   A short walk\, getting out in nature\, and connecting with the skills of our ancestors. \nPAY FOR ONE\, BRING A FRIEND! \n 
URL:https://www.schoolofself-reliance.com/event/lunchtime-candle-making-workshop/
CATEGORIES:Bushcraft,Ethno-botany,Survival Skills
END:VEVENT
BEGIN:VEVENT
DTSTART;TZID=America/Los_Angeles:20260425T140000
DTEND;TZID=America/Los_Angeles:20260425T163000
DTSTAMP:20260423T122230
CREATED:20260421T172907Z
LAST-MODIFIED:20260421T172907Z
UID:61560-1777125600-1777134600@www.schoolofself-reliance.com
SUMMARY:EARTH DAY WILD FOOD AND NATURE WALK
DESCRIPTION:SPECIAL EARTH DAY NATURE WALK  2 P.M.\n \nElder flower and fruit. Photo by Helen Wong.\nJoin us for this Special Earth Day Plant and Nature walk at Hahamongna Watershed Park.  2 p.m. \nWe will explore some of the native and non-native plants\, and learn about medicinal plants as well. \nThis is just two hours in the afternoon\, but bring water and snacks if needed.  We might make a simple wild food soup\, so bring a bowl just in case. \nSPECIAL:  Buy a ticket and bring a friend for free! \nHope to see you there! \nMore details on location sent when you register.
URL:https://www.schoolofself-reliance.com/event/earth-day-wild-food-and-nature-walk/
CATEGORIES:Ethno-botany
ATTACH;FMTTYPE=image/jpeg:https://www.schoolofself-reliance.com/wp-content/uploads/2026/04/IMG_1714-scaled.jpg
END:VEVENT
END:VCALENDAR