BEGIN:VCALENDAR
VERSION:2.0
PRODID:-//School of Self-Reliance - ECPv6.15.13//NONSGML v1.0//EN
CALSCALE:GREGORIAN
METHOD:PUBLISH
X-WR-CALNAME:School of Self-Reliance
X-ORIGINAL-URL:https://www.schoolofself-reliance.com
X-WR-CALDESC:Events for School of Self-Reliance
REFRESH-INTERVAL;VALUE=DURATION:PT1H
X-Robots-Tag:noindex
X-PUBLISHED-TTL:PT1H
BEGIN:VTIMEZONE
TZID:America/Los_Angeles
BEGIN:DAYLIGHT
TZOFFSETFROM:-0800
TZOFFSETTO:-0700
TZNAME:PDT
DTSTART:20250309T100000
END:DAYLIGHT
BEGIN:STANDARD
TZOFFSETFROM:-0700
TZOFFSETTO:-0800
TZNAME:PST
DTSTART:20251102T090000
END:STANDARD
BEGIN:DAYLIGHT
TZOFFSETFROM:-0800
TZOFFSETTO:-0700
TZNAME:PDT
DTSTART:20260308T100000
END:DAYLIGHT
BEGIN:STANDARD
TZOFFSETFROM:-0700
TZOFFSETTO:-0800
TZNAME:PST
DTSTART:20261101T090000
END:STANDARD
BEGIN:DAYLIGHT
TZOFFSETFROM:-0800
TZOFFSETTO:-0700
TZNAME:PDT
DTSTART:20270314T100000
END:DAYLIGHT
BEGIN:STANDARD
TZOFFSETFROM:-0700
TZOFFSETTO:-0800
TZNAME:PST
DTSTART:20271107T090000
END:STANDARD
END:VTIMEZONE
BEGIN:VEVENT
DTSTART;TZID=America/Los_Angeles:20260419T110000
DTEND;TZID=America/Los_Angeles:20260419T120000
DTSTAMP:20260423T133237
CREATED:20260414T171703Z
LAST-MODIFIED:20260414T171703Z
UID:61535-1776596400-1776600000@www.schoolofself-reliance.com
SUMMARY:EARTH DAY "FORAGING WORKSHOP" IN CLAREMONT
DESCRIPTION:Sustainable Claremont operates a farmers market every Sunday in Claremont’s historical village. \n \nHelen teaching\nToday\, for Earth Day\, they will have some special events\, including Christopher’s Foraging Workshop\, from 11 a.m. to noon.  Both Christopher and Helen will be there.  You will see a variety of wild foods and medicines\, and learn how to sustainably harvest\, and even which are easy to grow.   It will be an intimate setting and you will be able to see the plants and ask questions.  There is a requested $20 donation\, which you can check out at the link below. \n \nThe latest book by Helen and Christopher (and other books) will also be available for purchase. \nForaging Workshop Led by Chris Nyerges Tickets\, Sunday\, April 19  •  11 AM – 12 PM | Eventbrite \n  \nThe workshop will be at Shelton Park in Claremont\, at the northeast corner of W. Bonita and Harvard Ave. N.
URL:https://www.schoolofself-reliance.com/event/earth-day-foraging-workshop-in-claremont/
CATEGORIES:Ethno-botany
END:VEVENT
END:VCALENDAR