BEGIN:VCALENDAR
VERSION:2.0
PRODID:-//School of Self-Reliance - ECPv6.15.13//NONSGML v1.0//EN
CALSCALE:GREGORIAN
METHOD:PUBLISH
X-WR-CALNAME:School of Self-Reliance
X-ORIGINAL-URL:https://www.schoolofself-reliance.com
X-WR-CALDESC:Events for School of Self-Reliance
REFRESH-INTERVAL;VALUE=DURATION:PT1H
X-Robots-Tag:noindex
X-PUBLISHED-TTL:PT1H
BEGIN:VTIMEZONE
TZID:America/Los_Angeles
BEGIN:DAYLIGHT
TZOFFSETFROM:-0800
TZOFFSETTO:-0700
TZNAME:PDT
DTSTART:20250309T100000
END:DAYLIGHT
BEGIN:STANDARD
TZOFFSETFROM:-0700
TZOFFSETTO:-0800
TZNAME:PST
DTSTART:20251102T090000
END:STANDARD
BEGIN:DAYLIGHT
TZOFFSETFROM:-0800
TZOFFSETTO:-0700
TZNAME:PDT
DTSTART:20260308T100000
END:DAYLIGHT
BEGIN:STANDARD
TZOFFSETFROM:-0700
TZOFFSETTO:-0800
TZNAME:PST
DTSTART:20261101T090000
END:STANDARD
BEGIN:DAYLIGHT
TZOFFSETFROM:-0800
TZOFFSETTO:-0700
TZNAME:PDT
DTSTART:20270314T100000
END:DAYLIGHT
BEGIN:STANDARD
TZOFFSETFROM:-0700
TZOFFSETTO:-0800
TZNAME:PST
DTSTART:20271107T090000
END:STANDARD
END:VTIMEZONE
BEGIN:VEVENT
DTSTART;TZID=America/Los_Angeles:20260416T120000
DTEND;TZID=America/Los_Angeles:20260416T140000
DTSTAMP:20260423T133237
CREATED:20191217T065034Z
LAST-MODIFIED:20260316T183004Z
UID:11920-1776340800-1776348000@www.schoolofself-reliance.com
SUMMARY:LUNCHTIME TRAPS\,TRIGGERS\, PRIMITIVE WEAPONRY WORKSHOP
DESCRIPTION:Learn to make traps\, triggers\, snares\, deadfalls — learn by doing! \nThursday\, April 16\, noon \nNote:  We do not go out and try to kill or trap animals when we do this class. \nWe recognize that hunting and fishing are long-established methods of putting food on the table\, especially during times of hardship and emergency.   Though I have never really been what you’d call a “hunter\,” I always wanted to know how to capture and clean animals for food\, if I had to.   I learned originally how to clean animals by using roadkill\, and fish that I caught.   Later\, I learned how to make and use primitive traps from various sources\, such as Paul Campbell and Larry Dean Olsen.  So if you’re like me\, and just want to know how to make these devices “just in case\,” please come to the class. \nWe’ll  meet in the Arroyo Seco to learn which woods are best for traps and triggers.  Then’ we’ll work on carving a deadfall trigger\, a trigger for a quail trap\, and more. \n \nYou’re learn by doing.  Bring your knife! (We have extras if  you don’t have one) \n \nWe’ll see edible and medicinal plants. Bring your canteen.
URL:https://www.schoolofself-reliance.com/event/lunchtime-useful-plant-walk-25/
CATEGORIES:Bushcraft,Ethno-botany,Foraging,medicinal plants,mulefat
ATTACH;FMTTYPE=image/jpeg:https://www.schoolofself-reliance.com/wp-content/uploads/2020/01/06-014.jpg
END:VEVENT
END:VCALENDAR