BEGIN:VCALENDAR
VERSION:2.0
PRODID:-//School of Self-Reliance - ECPv6.15.13//NONSGML v1.0//EN
CALSCALE:GREGORIAN
METHOD:PUBLISH
X-WR-CALNAME:School of Self-Reliance
X-ORIGINAL-URL:https://www.schoolofself-reliance.com
X-WR-CALDESC:Events for School of Self-Reliance
REFRESH-INTERVAL;VALUE=DURATION:PT1H
X-Robots-Tag:noindex
X-PUBLISHED-TTL:PT1H
BEGIN:VTIMEZONE
TZID:America/Los_Angeles
BEGIN:DAYLIGHT
TZOFFSETFROM:-0800
TZOFFSETTO:-0700
TZNAME:PDT
DTSTART:20240310T100000
END:DAYLIGHT
BEGIN:STANDARD
TZOFFSETFROM:-0700
TZOFFSETTO:-0800
TZNAME:PST
DTSTART:20241103T090000
END:STANDARD
BEGIN:DAYLIGHT
TZOFFSETFROM:-0800
TZOFFSETTO:-0700
TZNAME:PDT
DTSTART:20250309T100000
END:DAYLIGHT
BEGIN:STANDARD
TZOFFSETFROM:-0700
TZOFFSETTO:-0800
TZNAME:PST
DTSTART:20251102T090000
END:STANDARD
BEGIN:DAYLIGHT
TZOFFSETFROM:-0800
TZOFFSETTO:-0700
TZNAME:PDT
DTSTART:20260308T100000
END:DAYLIGHT
BEGIN:STANDARD
TZOFFSETFROM:-0700
TZOFFSETTO:-0800
TZNAME:PST
DTSTART:20261101T090000
END:STANDARD
END:VTIMEZONE
BEGIN:VEVENT
DTSTART;TZID=America/Los_Angeles:20250427T120000
DTEND;TZID=America/Los_Angeles:20250427T153000
DTSTAMP:20260425T043038
CREATED:20240821T232204Z
LAST-MODIFIED:20250415T072414Z
UID:59713-1745755200-1745767800@www.schoolofself-reliance.com
SUMMARY:LEARNING THE BASIC PLANT FAMILIES -- a new class!
DESCRIPTION:LEARNING THE PATTERN METHOD OF IDENTIFYING PLANT FAMILIES \nSunday\, April 27\, Noon \n  \nTaught by certified Herbalist Cash Robertson \n \n  \n \n  \nThis is a new class we will be offering. \nYou will learn the specifics of how to identify key botanical Families\, which is very important if  you plan to eat any wild foods. \nUtilizing the book “Botany in a Day” and ” Shanleya’s Quest 1 and 2″ by Tom Elpel (books available for purchase at the class for a discounted rate)\, you will spend time studying the 8 most common plant families found world wide through discussion\, show and tell\, and “Botany” card games. You will learn to memorize the easily identified characteristics of these plant families. \nWe’ll do a short walk along a trail to see and learn\, the plant families. \nMany of the plant families we will encounter and identify are entirely safe and we will collect with a goal to sample at least a wild soup\, so be sure to bring your bowl. \nBesides learning about the common plant families\, basic food and medicinal uses of the plants\, you’ll learn a little about which plants are good for fire-making\, and which are good for cordage/basketry. \nLeisurely walk. Bring a canteen of water\, a bowl\, and a camera. \nSuitable for all ages \nNOTE: This class is a prerequisite for the Second 8 most common plant families\nTaught by certified herbalist Cash Robertson.
URL:https://www.schoolofself-reliance.com/event/learning-the-basic-plant-families-a-new-class/
CATEGORIES:Ethno-botany
END:VEVENT
END:VCALENDAR