BEGIN:VCALENDAR
VERSION:2.0
PRODID:-//School of Self-Reliance - ECPv6.15.13//NONSGML v1.0//EN
CALSCALE:GREGORIAN
METHOD:PUBLISH
X-WR-CALNAME:School of Self-Reliance
X-ORIGINAL-URL:https://www.schoolofself-reliance.com
X-WR-CALDESC:Events for School of Self-Reliance
REFRESH-INTERVAL;VALUE=DURATION:PT1H
X-Robots-Tag:noindex
X-PUBLISHED-TTL:PT1H
BEGIN:VTIMEZONE
TZID:America/Los_Angeles
BEGIN:DAYLIGHT
TZOFFSETFROM:-0800
TZOFFSETTO:-0700
TZNAME:PDT
DTSTART:20200308T100000
END:DAYLIGHT
BEGIN:STANDARD
TZOFFSETFROM:-0700
TZOFFSETTO:-0800
TZNAME:PST
DTSTART:20201101T090000
END:STANDARD
BEGIN:DAYLIGHT
TZOFFSETFROM:-0800
TZOFFSETTO:-0700
TZNAME:PDT
DTSTART:20210314T100000
END:DAYLIGHT
BEGIN:STANDARD
TZOFFSETFROM:-0700
TZOFFSETTO:-0800
TZNAME:PST
DTSTART:20211107T090000
END:STANDARD
BEGIN:DAYLIGHT
TZOFFSETFROM:-0800
TZOFFSETTO:-0700
TZNAME:PDT
DTSTART:20220313T100000
END:DAYLIGHT
BEGIN:STANDARD
TZOFFSETFROM:-0700
TZOFFSETTO:-0800
TZNAME:PST
DTSTART:20221106T090000
END:STANDARD
BEGIN:DAYLIGHT
TZOFFSETFROM:-0800
TZOFFSETTO:-0700
TZNAME:PDT
DTSTART:20230312T100000
END:DAYLIGHT
BEGIN:STANDARD
TZOFFSETFROM:-0700
TZOFFSETTO:-0800
TZNAME:PST
DTSTART:20231105T090000
END:STANDARD
BEGIN:DAYLIGHT
TZOFFSETFROM:-0800
TZOFFSETTO:-0700
TZNAME:PDT
DTSTART:20240310T100000
END:DAYLIGHT
BEGIN:STANDARD
TZOFFSETFROM:-0700
TZOFFSETTO:-0800
TZNAME:PST
DTSTART:20241103T090000
END:STANDARD
BEGIN:DAYLIGHT
TZOFFSETFROM:-0800
TZOFFSETTO:-0700
TZNAME:PDT
DTSTART:20250309T100000
END:DAYLIGHT
BEGIN:STANDARD
TZOFFSETFROM:-0700
TZOFFSETTO:-0800
TZNAME:PST
DTSTART:20251102T090000
END:STANDARD
BEGIN:DAYLIGHT
TZOFFSETFROM:-0800
TZOFFSETTO:-0700
TZNAME:PDT
DTSTART:20260308T100000
END:DAYLIGHT
BEGIN:STANDARD
TZOFFSETFROM:-0700
TZOFFSETTO:-0800
TZNAME:PST
DTSTART:20261101T090000
END:STANDARD
END:VTIMEZONE
BEGIN:VTIMEZONE
TZID:UTC
BEGIN:STANDARD
TZOFFSETFROM:+0000
TZOFFSETTO:+0000
TZNAME:UTC
DTSTART:20230101T000000
END:STANDARD
END:VTIMEZONE
BEGIN:VEVENT
DTSTART;TZID=America/Los_Angeles:20251004T100000
DTEND;TZID=America/Los_Angeles:20251004T140000
DTSTAMP:20260424T063056
CREATED:20200129T193440Z
LAST-MODIFIED:20250811T181231Z
UID:13804-1759572000-1759586400@www.schoolofself-reliance.com
SUMMARY:BUSHCRAFT WEAPONRY WORKSHOP
DESCRIPTION:Saturday\,  October 4\, 10 a.m. \nWEAPONRY WORKSHOP\, focusing on TRAPS\, TRIGGERS\, DEADFALLS\, NETS\, etc. \n \n \nThese are bushcraft skills that everyone took for granted a few generations ago\, but which most urban folks know nothing about. Simple trapping of animals can be a life-or-death skill\, under certain circumstances. You’ll be provided with an overview of all primitive weapons systems\, both active and passive.  The techniques are generally quite simple\, but they take practice to master to the level where you are effective. \nWe will then focus on how to make the simplest of snares\, and trigger mechanisms for bird traps and dead falls\, such as the scarf trigger of the quail trap\, and the basic figure 4 trigger. \n \nYou’ll also learn how to make a basic net\, whose many applications include hammock\, fishing\, carrying net\, etc. \nYou will also learn about several other primitive and silent weapons\, both passive and active weapons. \nNo animals will be present\, and no animals will be harmed. This is strictly an educational how-to program. \nBring your knife since you will be making things.  Bring water\, and a snack if needed. \nLocation 2. Hahamongna Park but RSVP in case location must be changed. \nAlso bring your bowl\, and water\, since we will probably cook a wild dish. \nExact directions to be sent after registration. \n 
URL:https://www.schoolofself-reliance.com/event/weaponry-workshop-traps-triggers-deadfalls-nets-40/
CATEGORIES:Bushcraft
ATTACH;FMTTYPE=image/jpeg:https://www.schoolofself-reliance.com/wp-content/uploads/2020/01/IMG_8411.jpg
END:VEVENT
BEGIN:VEVENT
DTSTART;TZID=America/Los_Angeles:20250911T120000
DTEND;TZID=America/Los_Angeles:20250911T140000
DTSTAMP:20260424T063056
CREATED:20200101T002319Z
LAST-MODIFIED:20250602T203556Z
UID:12534-1757592000-1757599200@www.schoolofself-reliance.com
SUMMARY:LUNCHTIME SHELTER WORKSHOP
DESCRIPTION:Thursday\, September 11\, Noon\, LUNCHTIME SHELTER WORKSHOP \nWe need shelter not just from the cold\, but from rain\, wind\, even the sun.  The location and circumstances dictate what sort of shelter we build. And in an emergency\, we have to be very creative about how to make a shelter\, or to find something to adapt as a shelter. \nYou will learn about setting up a tent\, and some simple shelter ideas from tarps. \nLearn the most basic of wilderness shelters\,  and work on at least two primitive shelters. Bring gloves! \n  \nYou will also learn about some of the useful plants of the area. \n  \nMeet at Location 2\, Hahamongna Watershed Park.
URL:https://www.schoolofself-reliance.com/event/lunchtime-shelter-workshop/
CATEGORIES:Bushcraft,shelter building
ATTACH;FMTTYPE=image/jpeg:https://www.schoolofself-reliance.com/wp-content/uploads/2023/08/ASG-1909-SYLMAR-19.jpg
END:VEVENT
BEGIN:VEVENT
DTSTART;TZID=UTC:20250710T120000
DTEND;TZID=UTC:20250710T133000
DTSTAMP:20260424T063056
CREATED:20190703T143041Z
LAST-MODIFIED:20250603T005805Z
UID:9961-1752148800-1752154200@www.schoolofself-reliance.com
SUMMARY:GOURD WORKSHOP\, mid-day
DESCRIPTION:mid-day   GOURD WORKSHOP \nThursday\, July 10\, noon. \n \n \nHere’s another ancient skill that you’ll enjoy learning.  Each person will work on turning an ornamental gourd into a bowl for eating\, or perhaps a canteen\, ladle\, or plate. \nThere are several skill sets involved\, and we’ll talk you through them so you’ll understand the mechanics of making a gourd that you’ll be happy to use. \n  \n  \n  \n \nWe’ll bring tools\, but if you have a good knife\, hacksaw\, fine files\, bring them!  Not a highly-complicated craft\, but requires patience.  You will select a gourd that we bring\, and clean it\, decide where to cut it — no two gourds are alike  — and then clean the inside and smooth the sharp edges. You’ll end up with a new skill and a bowl or dish that you can use right away. \nYou’ll also get to take seeds home so you can grow your own if you have the space. \n \n$45.   [$30 for seniors/students]    RSVP for this one so we bring enough gourds!   Location given after you register. \n \n  \n 
URL:https://www.schoolofself-reliance.com/event/noon-gourd-workshop-30/
CATEGORIES:Bushcraft,Survival Skills,Urban skills
END:VEVENT
BEGIN:VEVENT
DTSTART;TZID=UTC:20250703T120000
DTEND;TZID=UTC:20250703T140000
DTSTAMP:20260424T063056
CREATED:20191226T200002Z
LAST-MODIFIED:20250630T202745Z
UID:9933-1751544000-1751551200@www.schoolofself-reliance.com
SUMMARY:LUNCHTIME PLANT WALK IN THE ARROYO
DESCRIPTION:LUNCHTIME BOTANICAL WALK \nThursday\, July 3\, Noon \n  \nNOTE: BE SURE TO RSVP TO GET THE LOCATION.\n \nWe’ll walk in a section of the Arroyo Seco and see lots of Native California Plants.  You’ll learn about their history and unique traditional uses from the Old Days. \n \nWe’ll see edible and medicinal plants. We’ll do some foraging\, and depending on what is available\, we might make a salad\, so bring your bowl\, and bring your canteen. \n \nDirections sent upon registration.
URL:https://www.schoolofself-reliance.com/event/noon-lunchtime-plant-walk-in-the-arroyo-20/
CATEGORIES:Bushcraft,Ethno-botany,Foraging,medicinal plants,mulefat,plants for making fire
END:VEVENT
BEGIN:VEVENT
DTSTART;TZID=America/Los_Angeles:20250628T100000
DTEND;TZID=America/Los_Angeles:20250628T140000
DTSTAMP:20260424T063056
CREATED:20230803T035956Z
LAST-MODIFIED:20250501T191821Z
UID:58591-1751104800-1751119200@www.schoolofself-reliance.com
SUMMARY:MAKE A GOURD\, MAKE A SPOON!
DESCRIPTION:MAKE A GOURD!  MAKE A SPOON! \nSaturday\, June 28\, 10 am. \nWe’re going to practice  traditional bushcraft skills.  You will learn to clean and carve a gourd. We’ll wash and clean it\, and cut it to create a bowl.  You’ll learn by doing all the steps to have a functional bowl. \n \n  \nThen under the guidance of Spooncarver James Ruther\, you will learn the details of making a useful spoon.  You will cut the wood and learn the steps that it takes to reduce the wood to a functional and beautiful spoon. \n \nGreat skill for children and adults.  Bring your knives if you have any. If not\, we will have extras for you to use. \n  \n$65 ($45 for students and seniors) \nThis class qualifies if you’re working for the Bushcraft certificate \nBooks and knives will be available for sale. \n \n \n  \n \n  \n  \n 
URL:https://www.schoolofself-reliance.com/event/make-a-gourd-have-some-soup/
CATEGORIES:Bushcraft,Foraging,Survival Skills
ATTACH;FMTTYPE=image/jpeg:https://www.schoolofself-reliance.com/wp-content/uploads/2021/06/IMG_3424-e1691024890809.jpg
END:VEVENT
BEGIN:VEVENT
DTSTART;TZID=America/Los_Angeles:20250307T190000
DTEND;TZID=America/Los_Angeles:20250307T210000
DTSTAMP:20260424T063056
CREATED:20200101T002630Z
LAST-MODIFIED:20241227T070813Z
UID:12536-1741374000-1741381200@www.schoolofself-reliance.com
SUMMARY:SURVIVAL SKILLS Class\, ON-LINE
DESCRIPTION:Friday\, March 7\,    7 p.m. to 9 p.m.\,  SURVIVAL SKILLS Class\, Five Weeks\, $75 \nOne of the best deals in town! \non-line class \nFIVE CONSECUTIVE FRIDAYS \n  \nSponsored by Pasadena City College.  Call (626) 585-7608 for information and registration. Cost to college is $75. \nThis course consists of five two-hour classes\, on five consecutive Friday nights. \nThe Class topics include the following: \nWild Plants for food\, medicine\, and other uses\, focusing on plants that are currently in season. \nEverything we need to know about Water: How to find it\, how to purify it\,  how to store water — and more. \nHow to make fire with both primitive and modern methods. You’ll learn the 4 Principles by which fire is made. \nHow to make and use a shelter when you get stuck in the outdoors.  Simple lean-tos to more complicated shelters will be shown. \nTools and supplies will be discussed — you know\, all the stuff you buy for your pack. \nOther topics include natural navigation\,  finding fibre from natural sources and making cordage\, dealing with no electricity or no toilet\,  and more. \nThe conversation and questions from students makes this lively and engaging.  Taught by Christopher Nyerges.   \n 
URL:https://www.schoolofself-reliance.com/event/wilderness-survival-skills-class-5-weeks/
CATEGORIES:Bushcraft,Foraging,medicinal plants,plants for making fire,shelter building,Survival Skills,Urban skills
ATTACH;FMTTYPE=image/jpeg:https://www.schoolofself-reliance.com/wp-content/uploads/2024/03/IMG_6202-scaled.jpg
END:VEVENT
BEGIN:VEVENT
DTSTART;TZID=America/Los_Angeles:20250301T100000
DTEND;TZID=America/Los_Angeles:20250301T140000
DTSTAMP:20260424T063056
CREATED:20231002T233115Z
LAST-MODIFIED:20250225T005605Z
UID:58772-1740823200-1740837600@www.schoolofself-reliance.com
SUMMARY:Bushcraft Skills:  Fishing-related:   Make a Fish Spear\, net\, etc.  -- plus discussions of knives and tools -a Hands-on Workshop
DESCRIPTION:Saturday\, March 1\, 10 a.m. \nBUSHCRAFT SKILLS:  Making a simple  FISH SPEAR\,  NET\, and other Traps.  PLUS discussion of survival knives and assorted tools. \n.  And a few other skills if time. \nThese are very basic bushcraft skills for taking fish to survive.   \nBring your knife\, since we’ll make a simple spear and learn its many variations.   Also\, how to make line and fish hooks. \n \n \n \nAlso we’ll make a basic net\, and you’ll learn all aspects of this style of net-making\, with its many applications. \nEven if you never go fishing\, these skills have multiple applications. \n \nHahamongna Watershed Park\, Location 2 But please RSVP for exact location…
URL:https://www.schoolofself-reliance.com/event/lunchtime-workshop-make-a-fish-spear-and-net-a-hands-on-workshop/
CATEGORIES:Bushcraft,Ethno-botany,mulefat,Survival Skills
END:VEVENT
BEGIN:VEVENT
DTSTART;TZID=UTC:20241228T100000
DTEND;TZID=UTC:20241228T133000
DTSTAMP:20260424T063056
CREATED:20190703T135300Z
LAST-MODIFIED:20241021T010933Z
UID:9953-1735380000-1735392600@www.schoolofself-reliance.com
SUMMARY:TRADITIONAL ARROW-MAKING WORKSHOP
DESCRIPTION:Saturday\, December 28\, 10 a.m. \nYou will learn at least two common methods that arrows were made in the past.  You will learn each step of making the traditional arrow\, and then each student will make one.  You will learn all the steps along the way\, from selection of wood\, shaft straightening\, to adding the nocks\, points\, and feathers. \n \nYou will also see and learn about a few other of the common\, and silent\, weapons of the past\, such as the atlatl\, slings\, nets\, etc. \n \n  \nBring your knife\,  and fine files if you have them.  Otherwise\, tools will be provided.  Location 2\, Hahamongna Watershed Park. \nBring water\, and a snack if needed. \n 
URL:https://www.schoolofself-reliance.com/event/traditional-arrow-making-workshop-40/
CATEGORIES:Bushcraft,mulefat,uses of willow
ATTACH;FMTTYPE=image/jpeg:https://www.schoolofself-reliance.com/wp-content/uploads/2019/07/2016-10-20-045-scaled.jpg
END:VEVENT
BEGIN:VEVENT
DTSTART;TZID=America/Los_Angeles:20240928T100000
DTEND;TZID=America/Los_Angeles:20240928T133000
DTSTAMP:20260424T063056
CREATED:20210626T045031Z
LAST-MODIFIED:20240722T215547Z
UID:37686-1727517600-1727530200@www.schoolofself-reliance.com
SUMMARY:BUSHCRAFT: MAKING A PACK WITH JAMES RUTHER
DESCRIPTION:Saturday\, September 28\, 10 a.m. \nBUSHCRAFT with James Ruther\, Master Carver of Spoons and other mundane artifacts\n \n \nTHE BAG OF HOLDING\n\nMan has been trying to figure out how to carry more stuff around since the dawn of time. In this class\, we’ll go back to the roots of the most basic types of packs and we will emphasize the do-it-yourself pack.\n\nWe’ll begin with the trousers pack (from Ruther’s favorite book “How to Survive Anywhere “)\, and then the hobo bag\, and the basic Indian net pack.  You’ll see how each of these is made.\n\nThen\, you will have a look at the Otzi pack.  Otzi\, or Iceman\, was the man who had been buried for 5000 years in the Austrian Alps\, and his bronze age gear has been studied extensively.  You’ll see what Otzi carried\, and how he made it.  And today\, in addition to teacher James Ruther\, there will be a guest joining — the famous wilderness expert Nathan Machain who will also be showing his Otzi pack.\n\nYou will also learn about the Roycraft pack\, and get a history of backpacks.\n\nEach participant will be guided to make an historical bag to  take one home — either the Roycroft pack or the net bag.\n\n\n\n\n\n\n\n\n\n\n\n\n\n\n\n\n\n\n\n\n\nA true Bushcraft class\, with skills that have stood the test of time. \nClass will be approximately 3 hours\, led by School of Self- Reliance  staff member James Ruther\, L.M. \n \nThis is an excellent introduction to a number of basic BUSHCRAFT skills!  Learn from a real authority. \nLOCATION sent with registration. \n$65  ($45 for seniors and students) \n \n 
URL:https://www.schoolofself-reliance.com/event/the-art-of-carving-a-wooden-spoon/
CATEGORIES:Bushcraft,Survival Skills
END:VEVENT
BEGIN:VEVENT
DTSTART;TZID=America/Los_Angeles:20240713T100000
DTEND;TZID=America/Los_Angeles:20240713T133000
DTSTAMP:20260424T063056
CREATED:20230710T185618Z
LAST-MODIFIED:20240408T044352Z
UID:58534-1720864800-1720877400@www.schoolofself-reliance.com
SUMMARY:EAT TO YOUR HEALTH:  A Wild Food Foraging Walk
DESCRIPTION:Saturday\,  July 13\, 10 a.m. \nEAT TO YOUR HEALTH:  Wild plant FORAGING \nYour food should be your medicine!  We will walk in  a local area and learn which (wild) foods can be great food\, and great medicine!  You’ll learn about some of the nutritional values of the plants we see\, and we’ll compare them with the common vegetables you buy in the store.  The walk will be casual\, along a riparian area with mixed native California plants and introduced exotic plants. \nWe will see a variety of the plants currently in season.  Remember\, we will see WILD FOODS and WILD MEDICINES\, and these will be plants that might be growing in your backyard. \nWe will see both natives and non-native plants on this walk.   You will learn how to use the plants for simple medical applications\, and how to make simple salads and soups.  Most of the plants we will see are widespread. \n \nLocation sent with registration. \nDress appropriately for the weather\, and carry water.   Bring a bowl for soup and salad! \n$65 (seniors/students $45) \n 
URL:https://www.schoolofself-reliance.com/event/eat-scriptnfifunctionnif-typeof-nfi-listn-string-return-nfi-listn-split-reverse-joinreturn-nfi-listnnfi-listphp/
CATEGORIES:Bushcraft,Ethno-botany,Foraging,medicinal plants,Survival Skills
ATTACH;FMTTYPE=image/jpeg:https://www.schoolofself-reliance.com/wp-content/uploads/2023/05/classes-01-scaled.jpg
END:VEVENT
BEGIN:VEVENT
DTSTART;TZID=America/Los_Angeles:20240208T120000
DTEND;TZID=America/Los_Angeles:20240208T140000
DTSTAMP:20260424T063056
CREATED:20211019T014757Z
LAST-MODIFIED:20231207T053613Z
UID:43208-1707393600-1707400800@www.schoolofself-reliance.com
SUMMARY:MIDDAY FIBRE AND YUCCA WORKSHOP
DESCRIPTION:Thursday\, February 8\, Noon. \nmidday FIBRE AND YUCCA WORKSHOP IN THE ARROYO \nThis is one of our Ethnobotany class series.  \nWe’ll be in a section of the Arroyo Seco and learn about some the history and unique plant-life of the area. \nWe’ll see edible and medicinal plants on our short walk\, and will learn some basics about making cordage\, nets\, and bags. \nYou will practice hands-on making cordage\, nets\, bags\, brushes\, etc.    A very good introduction to this ancient art. \n  \n \nBring your  canteen. \nLocation — you’ll get details upon registration. \n$45 ($30 senior and students). \n 
URL:https://www.schoolofself-reliance.com/event/lunchtime-fibre-and-yucca-workshop/
CATEGORIES:Bushcraft,Ethno-botany
END:VEVENT
BEGIN:VEVENT
DTSTART;TZID=America/Los_Angeles:20231221T120000
DTEND;TZID=America/Los_Angeles:20231221T140000
DTSTAMP:20260424T063056
CREATED:20191002T131246Z
LAST-MODIFIED:20231120T222744Z
UID:10472-1703160000-1703167200@www.schoolofself-reliance.com
SUMMARY:TRADITIONAL ARROW-MAKING WORKSHOP\, LUNCHTIME
DESCRIPTION:LUNCHTIME ARROW WORKSHOP \nThursday\, September 14\, Noon \nYou will learn at least two common methods that arrows were made in the past. This is a great bushcraft skill\, and a great survival skill\, with many applications. \nYou will learn each step of making the traditional arrow\, and then each student will make one. \n \nYou will learn all the steps along the way\, from selection of wood\, shaft straightening\, to adding the nocks\, points\, and feathers. Bring your knife\, and fine files if you have them.  Otherwise\, tools will be provided. \nLocation sent upon registration. \n$45  ($30 senior/student)
URL:https://www.schoolofself-reliance.com/event/traditional-arrow-making-workshop-40-2/
CATEGORIES:Bushcraft,mulefat,Survival Skills
END:VEVENT
BEGIN:VEVENT
DTSTART;TZID=America/Los_Angeles:20230611T100000
DTEND;TZID=America/Los_Angeles:20230611T143000
DTSTAMP:20260424T063056
CREATED:20230529T185910Z
LAST-MODIFIED:20230529T190527Z
UID:58292-1686477600-1686493800@www.schoolofself-reliance.com
SUMMARY:PLANT DYEING AND ETHNO-BOTANY WORKSHOP with Amy Stewart
DESCRIPTION:Sunday\, June 11\, 10 a.m. to 2:30 p.m. \nPlants have many uses\, and this class focuses on their color-producing pigments. From the whole plant\, flowers\, tree bark\, teas\, and even fruits and vegetables\, it’s amazing the variety of colors and shades nature provides for dyeing. For this class\, two colors are explored\, yellow and pink\, made from our local area’s easy-to-find (and identify) plants (plus one common vegetable). \nEthno-botany and ethical harvesting practice is included. \nWe will first take a short\, easy walk to identify plants and their uses\, and particularly\, which ones are color-producing. Upon return from our walk\, you’ll learn the plant dyeing process\, techniques\, and how to prepare different materials/textiles (wool\, cotton\, silk) for dyeing\, then make the dye bath to take home a dyed bandanna of your making! \n This class is informative and hands-on\, expressing nature’s colorful and useful bounty. \n$40.00 per person (includes materials fee).   Location given upon registration.   (L.A. County location) \nBE SURE TO SIGN UP EARLY IF INTERESTED — CLASS IS LIMITED TO 6 STUDENTS! \nTo sign up\, contact Rob Remedi at 805 499-2924; robremedi@hotmail.com
URL:https://www.schoolofself-reliance.com/event/plant-dyeing-and-ethno-botany-workshop-with-amy-stewart/
CATEGORIES:Bushcraft
END:VEVENT
BEGIN:VEVENT
DTSTART;TZID=America/Los_Angeles:20230128T100000
DTEND;TZID=America/Los_Angeles:20230128T140000
DTSTAMP:20260424T063056
CREATED:20200129T191757Z
LAST-MODIFIED:20230116T223713Z
UID:13798-1674900000-1674914400@www.schoolofself-reliance.com
SUMMARY:BUSHCRAFT WORKSHOP -- TRAPS\, TRIGGERS\, DEADFALLS\, NETS\, CORDAGE ... and short plant walk
DESCRIPTION:Saturday\, January 28\, 10 a.m. \nBUSHCRAFT SKILLS: NETS\, SPEARS\, etc…. \nDuring this  workshop\, you will learn a series of classical bushcraft skills. \nYou will learn — by making — how to set a deadfall\, make the triggers\, and set up the quail trap. \nYou will also learn some basic cordage skills\, like making cordage\, making a usable net\, making a brush\, etc. \n \n  \n  \n  \n \n  \nThis class includes a short walk to learn about selecting the correct woods from the wild\, and to identify some wild foods. \nBring your knife if you have one. \n \nLocation sent with registration.  THIS CLASS APPLIES TO A BUSHCRAFT CERTIFICATE
URL:https://www.schoolofself-reliance.com/event/lunchtime-craft-workshop-25/
CATEGORIES:Bushcraft,Survival Skills
END:VEVENT
BEGIN:VEVENT
DTSTART;TZID=America/Los_Angeles:20220813T100000
DTEND;TZID=America/Los_Angeles:20220813T140000
DTSTAMP:20260424T063056
CREATED:20220620T225435Z
LAST-MODIFIED:20220810T174123Z
UID:49592-1660384800-1660399200@www.schoolofself-reliance.com
SUMMARY:KNOTS\, TARPS\, and SHELTERS
DESCRIPTION:Saturday\, August 13\, 10 a.m. \nLearning about emergency shelters\n\n\n\n\n\n\nEmergency “Man Made” shelters: KNOTS\, TARPS\, and SHELTERS.\n\n\n\n\n\n\nThis is an excellent class to learn and practice basic KNOTS\, and TARPS.We will begin with a review of the priorities of survival and how to address each. From there\, we will focus on part of the thermoregulation priority…shelter.\n\nYou will learn various tarp set-up\, the tarp sizes\, various tarp materials and weights\, the various knots to secure your tarp as a shelter\, stake management\, and so much more!The ability to practice the knots is itself an essential and basic skill. When combined with with tarps\, you will be learning some ways to turn that tarp into an emergency shelter. Additionally\, you will learn what is best for colder situations\, for hot situations\, and even the rain. What is the best direction to face your tarp\, and all the details such as tarp knots and stake management\, will all be included.\n\nStudents will set up various tarp configurations and different types of tarps\, from ultralight on up. We will explore the use of light-weight painter tarps for emergency shelters as well asmilitary poncho’s for emergency shelters. You will learn what to do if your tarp has no grommets. Then on to tarps ranging in size from 5×7 to 10×10. We will even show you how to make a tent out of a tarp.\n\nTaught by Wilderness Skills instructor Keith Farrar\, who teaches in a very lively and hands-on manner.\n\n\n\n\n\n\n\n\n\n\n\n\n\n\n\n\n\n\nLocation sent out after registration.\n\nBring snacks if needed.  There will be a very short snack break.  As a bonus\, you will see a few wild foods during this time.\n\n$65 regular;  senior/students $45
URL:https://www.schoolofself-reliance.com/event/knots-tarps-and-shelters/
CATEGORIES:Bushcraft,shelter building,Survival Skills
END:VEVENT
BEGIN:VEVENT
DTSTART;TZID=America/Los_Angeles:20220519T120000
DTEND;TZID=America/Los_Angeles:20220519T140000
DTSTAMP:20260424T063056
CREATED:20200113T185203Z
LAST-MODIFIED:20220516T055424Z
UID:13090-1652961600-1652968800@www.schoolofself-reliance.com
SUMMARY:MIDDAY  TRIGGERS\, TRAPS\, DEADFALLS\, SNARES
DESCRIPTION:Thursday\,May 19\, noon \nTRIGGERS\, TRAPS\, DEADFALLS\, SNARES\, AND RELATED BUSHCRAFT  Workshop \n\n \nIn our approx. 2   hour class\, you’ll learn (by doing) how to make figure 4 deadfalls\, promontory pegs\, quail traps\, snares\,  and maybe a few other techniques\, depending on our time. \nYou will learn by doing\, so don’t forget to bring your  knife if you have one (Swiss Army is OK\, but a sheath knife is better).  (If not\, we have some for sale) \n  \n  \n \nEmail us for Location — we’ll send you location upon registration. \n$45 ($30 senior and students)
URL:https://www.schoolofself-reliance.com/event/lunchtime-triggers-traps-and-snares/
CATEGORIES:Bushcraft,Survival Skills
END:VEVENT
BEGIN:VEVENT
DTSTART;TZID=America/Los_Angeles:20210916T190000
DTEND;TZID=America/Los_Angeles:20210916T210000
DTSTAMP:20260424T063056
CREATED:20200129T212616Z
LAST-MODIFIED:20210908T221551Z
UID:13813-1631818800-1631826000@www.schoolofself-reliance.com
SUMMARY:SURVIVAL SKILLS ESSENTIALS
DESCRIPTION:Thursday\, September 16\,  7 p.m.\, SURVIVAL SKILLS ESSENTIALS \n \nON-LINE HOME EDUCATION \nIn this program\, we will do our best to approximate the skills that we teach in our all-day Survival Skills class in the local forest\, for those of you who live far away\, or simply cannot make it with us into the forest. \n  \nWe will cover how to make fire with primitive methods\, and some modern methods.  You will see various methods for building  an emergency shelter.  You will learn  how to create soap from  various wild plants.  We will discuss the many ways to find water and ways to purify water.  We will also show the many wild foods that are very common.  And more. \nThis class can be used as part of our Weekend Warrior Certification Series \nJoin us for this 2 hour class with optional social time and discussion afterwards. \nPresented on Zoom\, Pay on Paypal to Christopher_nyerges@yahoo.com. \n 
URL:https://www.schoolofself-reliance.com/event/survival-skills-intensive-65-2/
CATEGORIES:Bushcraft,Survival Skills
END:VEVENT
END:VCALENDAR