BEGIN:VCALENDAR
VERSION:2.0
PRODID:-//School of Self-Reliance - ECPv6.15.13//NONSGML v1.0//EN
CALSCALE:GREGORIAN
METHOD:PUBLISH
X-ORIGINAL-URL:https://www.schoolofself-reliance.com
X-WR-CALDESC:Events for School of Self-Reliance
REFRESH-INTERVAL;VALUE=DURATION:PT1H
X-Robots-Tag:noindex
X-PUBLISHED-TTL:PT1H
BEGIN:VTIMEZONE
TZID:America/Los_Angeles
BEGIN:DAYLIGHT
TZOFFSETFROM:-0800
TZOFFSETTO:-0700
TZNAME:PDT
DTSTART:20250309T100000
END:DAYLIGHT
BEGIN:STANDARD
TZOFFSETFROM:-0700
TZOFFSETTO:-0800
TZNAME:PST
DTSTART:20251102T090000
END:STANDARD
BEGIN:DAYLIGHT
TZOFFSETFROM:-0800
TZOFFSETTO:-0700
TZNAME:PDT
DTSTART:20260308T100000
END:DAYLIGHT
BEGIN:STANDARD
TZOFFSETFROM:-0700
TZOFFSETTO:-0800
TZNAME:PST
DTSTART:20261101T090000
END:STANDARD
BEGIN:DAYLIGHT
TZOFFSETFROM:-0800
TZOFFSETTO:-0700
TZNAME:PDT
DTSTART:20270314T100000
END:DAYLIGHT
BEGIN:STANDARD
TZOFFSETFROM:-0700
TZOFFSETTO:-0800
TZNAME:PST
DTSTART:20271107T090000
END:STANDARD
END:VTIMEZONE
BEGIN:VEVENT
DTSTART;TZID=America/Los_Angeles:20260718T100000
DTEND;TZID=America/Los_Angeles:20260718T133000
DTSTAMP:20260423T172731
CREATED:20250523T233354Z
LAST-MODIFIED:20260316T184518Z
UID:60641-1784368800-1784381400@www.schoolofself-reliance.com
SUMMARY:TRADITIONAL GOURD WORKSHOP
DESCRIPTION:GOURD WORKSHOP — Learn to make a bowl\, cup\, or spoon! \nJuly 18\, 10 a.m. \n \n[NOTE: Besides each of you working on a gourd\, we will also share some lessons in making triggers for traps\, such as with the quail trap\, and you will get to try some wild food at this class] \n \nYou will learn how to clean and process a traditional gourd grown for utilitarian purposes.  These are the hard shelled gourds that probably originated in Africa\, and were common all across the American Southwest. \nYour job will be to clean\, and learn how to cut and then clean the gourd. The seeds you can take home to grow. \nThere are artists who make some equisite items from these gourds\, and you might be one of them.  However\, we will focus on the fundamentals\, and just a few hints about the artistic embellishments. \nIf time\, we will have a short plant walk and possibly prepare something you can eat in your gourd. \nWe will supply all the tools needed\, but if you have your own knife\, hack saw\, files\, etc.\, please bring them. \nBring water to drink and a snack if required. \n \n \n \nIn addition to the comradie that comes with such activities\, you will be able to obtain books\, knives\, and other survival gear for sale. \n$65 ($45 for students/seniors)
URL:https://www.schoolofself-reliance.com/event/traditional-gourd-workshop/
CATEGORIES:Bushcraft
ATTACH;FMTTYPE=image/jpeg:https://www.schoolofself-reliance.com/wp-content/uploads/2019/07/Gourd-02.jpg
END:VEVENT
BEGIN:VEVENT
DTSTART;TZID=America/Los_Angeles:20261010T220000
DTEND;TZID=America/Los_Angeles:20261010T220000
DTSTAMP:20260423T172731
CREATED:20230418T010832Z
LAST-MODIFIED:20260316T185228Z
UID:57210-1791669600-1791669600@www.schoolofself-reliance.com
SUMMARY:WILD FOOD OUTING\, with cooking
DESCRIPTION:Saturday\, October 10\, 10 a.m. \nWILD FOOD OUTING \nToyon berries\n  \n \n  \n  \nFolks\, this will be an excellent way to see what’s in season and to try some of the wild edibles.  We will go on a short walk to explore an area and learn about the wild plants\, and their edible and medicinal uses. \nWe will study the diverse flora and we’ll have an opportunity to make a fire and do some light cooking. \n \n  \nStudents examining fresh chicken-of-the-woods\nCome and enjoy your time outdoors learning about plant and how they can be used for teas\, salads\, soups\, and medicines.  Also you’ll learn about those plants used for fire in a traditional manner. \n \nHahamongna Watershed Park; exact meeting spot given upon registration. \n \nBring water\, a bowl\, and knife.  Bring your snacks if necessary.
URL:https://www.schoolofself-reliance.com/event/wild-clay-workshop/
CATEGORIES:Bushcraft,Foraging
ATTACH;FMTTYPE=image/jpeg:https://www.schoolofself-reliance.com/wp-content/uploads/2023/04/IMG_3273-scaled.jpg
END:VEVENT
BEGIN:VEVENT
DTSTART;TZID=America/Los_Angeles:20261017T100000
DTEND;TZID=America/Los_Angeles:20261017T140000
DTSTAMP:20260423T172731
CREATED:20230803T061949Z
LAST-MODIFIED:20260316T184803Z
UID:58604-1792231200-1792245600@www.schoolofself-reliance.com
SUMMARY:TRADITIONAL CONTAINER WORKSHOP:  MAKE A BURN-BOWL
DESCRIPTION:Saturday\, October 17\, 10 a.m. \nCONTAINER WORKSHOP:  LEARN TO MAKE AN EXPEDIENT BURN BOWL \nJulia Han shows a burn bowl made by Christopher from a burl\n \nAs part of our Container series\, we have taught how to make clay bowls (from local clays)\, how to make baskets\, how to process gourds\, how to make yucca and agave quivers\, how to make soap stone bowls (yes\, a slow process!)\, and this time\, how to make a burn-bowl.  A burn bowl is a piece of a log that we slowly burn out with coals\, and then scrape it out to create a useful bowl.  You will learn by doing. \nWe begin with a dry log\, and cut select pieces. Then we split them\, and you will slowly burn them out to create a functional bowl.  In fact\, there are many items that can be made by this process. \nWe will create coals in our fire\, which you will then carefully put onto your wood. You let it burn a bit\, and then you scrape.  You create a little hole\, and then you add another coal\, and repeat\, and repeat.  Bring a spoon for scraping.   Bring eye protection too. \nSometimes this goes quickly\, and sometimes not\, so bring your water and a snack. \nProbably Hahamongna\, but we will send location to registrants. \nLimited participation. \n$65 ($45 seniors/students)
URL:https://www.schoolofself-reliance.com/event/traditional-container-workshop-make-a-burn-bowl/
CATEGORIES:Bushcraft,Survival Skills
END:VEVENT
BEGIN:VEVENT
DTSTART;TZID=America/Los_Angeles:20261121T100000
DTEND;TZID=America/Los_Angeles:20261121T140000
DTSTAMP:20260423T172731
CREATED:20230803T063301Z
LAST-MODIFIED:20260414T012715Z
UID:58611-1795255200-1795269600@www.schoolofself-reliance.com
SUMMARY:THANKSGIVING SEASON -- WILD FOOD COOKING WORKSHOP -- INCLUDING ACORN PROCESSING
DESCRIPTION:Saturday\, November 21\, 10 a.m. \nWILD FOOD COOKING WORKSHOP \nJoin us as we do a short walk to forage wild foods that are in season\, and learn how to recognize what is available now. \nWe’ll then gather and prepare  the various wild foods\, along with some that we have brought\, including ACORNS.  You will work together to create a salad\, a soup\, an egg dish\, acorn pancakes\, tea\, and some sort of desert items.  We’ll have mushrooms if we find any. \nLearn how to eat the older nopales\nIt’s worth noting that when the first peoples of Hahamongna lived here\, they relied on the plant and animal life for their sustenance. You will just be getting a small taste of what that would have been like.  And it is worth noting that the majority of the wild foods that are available today are mostly European invasive plants\,  plants that the first peoples would not have had. \n \nBring your notebook and camera\, and bring your water and bowl.  This is not a spectator sport\, so be prepared to process greens\, make the fire\, and cook. \n$65 ($45 for seniors and students)
URL:https://www.schoolofself-reliance.com/event/thanksgiving-season-wild-food-cooking-workshop/
CATEGORIES:Bushcraft,Ethno-botany,Foraging,Survival Skills
END:VEVENT
END:VCALENDAR